BEGIN:VCALENDAR
VERSION:2.0
PRODID:NCyTE Center Calendar Creator
METHOD:PUBLISH
BEGIN:VEVENT
DTSTAMP:20230313T144829
DTSTART:20230717T080000
DTEND:20230721T140000
SUMMARY:Certified Ethical Hacker (CEH)
DESCRIPTION:<p style="text-align: center;"></p><p style="text-align: center;">&nbsp;</p><p style="text-align: left;"><span style="text-align: left;">The Ethical Hacking workshop is an in-depth and comprehensive course that delves into the common tactics&nbsp;employed by hackers to breach systems. From SQL injection and spear phishing to buffer overflows, this&nbsp;workshop equips you with the knowledge and skills needed to defend against these attacks. By immersing you&nbsp;in the hacker mindset, you will gain a better understanding of how to anticipate and protect against potential&nbsp;</span><span style="text-align: left;">threats.</span></p><p style="text-align: left;">This workshop goes beyond the narrow focus of specific vendors, technologies or equipment and emphasizes on&nbsp;a holistic security mindset. With live demonstrations of these techniques, you will gain hands-on experience in&nbsp;creating, packaging, and deploying malware in a realistic network environment. This workshop is designed to&nbsp;help attendees develop a deeper understanding of the hacker's perspective and methodology, and to empower&nbsp;them to secure their systems more effectively.</p><p style="text-align: center;"><a href="	https://ncytecenter.wildapricot.org/event-5143967 " target="_blank">REGISTER TO ATTEND</a></p><p style="text-align: left;">The National Cybersecurity Training and Education center is funded by a National Science Foundation grant #2054724</p>
X-ALT-DESC;FMTTYPE=text/html:<p style="text-align: center;"></p><p style="text-align: center;">&nbsp;</p><p style="text-align: left;"><span style="text-align: left;">The Ethical Hacking workshop is an in-depth and comprehensive course that delves into the common tactics&nbsp;employed by hackers to breach systems. From SQL injection and spear phishing to buffer overflows, this&nbsp;workshop equips you with the knowledge and skills needed to defend against these attacks. By immersing you&nbsp;in the hacker mindset, you will gain a better understanding of how to anticipate and protect against potential&nbsp;</span><span style="text-align: left;">threats.</span></p><p style="text-align: left;">This workshop goes beyond the narrow focus of specific vendors, technologies or equipment and emphasizes on&nbsp;a holistic security mindset. With live demonstrations of these techniques, you will gain hands-on experience in&nbsp;creating, packaging, and deploying malware in a realistic network environment. This workshop is designed to&nbsp;help attendees develop a deeper understanding of the hacker's perspective and methodology, and to empower&nbsp;them to secure their systems more effectively.</p><p style="text-align: center;"><a href="	https://ncytecenter.wildapricot.org/event-5143967 " target="_blank">REGISTER TO ATTEND</a></p><p style="text-align: left;">The National Cybersecurity Training and Education center is funded by a National Science Foundation grant #2054724</p>
LOCATION:Virtual\, 
CLASS:PUBLIC
END:VEVENT
END:VCALENDAR
