BEGIN:VCALENDAR
VERSION:2.0
PRODID:NCyTE Center Calendar Creator
METHOD:PUBLISH
BEGIN:VEVENT
DTSTAMP:20230123T164556
DTSTART:20230217T090000
DTEND:20230217T100000
SUMMARY:NCyTE Member Meeting
DESCRIPTION:<p style="text-align: center;"></p><p style="text-align: center;">February 17, 2023</p><p style="text-align: center;">9:00 am PST</p><p style="text-align: center;">&nbsp;</p><p>Data pathways will be explored concerning geospatial technologies and the requirements between open-source data, information security, and geospatial ethics.</p><p>As technologies are developed for autonomous transportation, it is critically important that the positional location data is kept secure. Typically through the use of the Global Navigation Satellite System (GNSS), often referred to as Global Position System (GPS), as well as ground-based transponders.</p><p>Positional awareness through the use of location data, as well as open-source services such as Open Street Map (OSM) and how it has been used in the war in Ukraine, will be discussed.</p><p><strong>Who should attend?&nbsp;</strong>&nbsp;<br>Anyone interested in positional data security and learning how information is collected and displayed.</p><p style="text-align: left;"></p><p><hr></p><p align="left"><strong>Event Facilitator:</strong></p><p align="left"><strong>Vincent DiNoto Jr.</strong></p><p style="margin-left: 40px;" align="left">Director of the National Geospatial Technology Center of Excellence&nbsp;<a href="https://www.geotechcenter.org/" title="Geotech center website link" target="_blank">(GeoTech Center)</a><br>Co-PI of the National Center of Autonomous Technology<br>Professor of Physics, Astronomy, and Geospatial Technology<br>Dean of College and Systemic Technology<br><a href="mailto:vince.dinoto@kctcs.edu" target="_blank">vince.dinoto@kctcs.edu</a></p><p style="margin-left: 40px;">Degrees from Indiana State University in Terre Haute, IN, Physics.</p><p style="margin-left: 40px;">Current research interests are using geospatial technology in historical research, such as redlining, battlefield mapping, and Sanborn Insurance Maps. Data collection of community items. Curriculum Design in web mapping and using Python in Mapping.</p><p style="text-align: center;"><a href="	https://ncytecenter.wildapricot.org/event-5108384 " target="_blank">REGISTER TO ATTEND</a></p><p style="margin-left: 40px;"></p><p style="margin-left: 40px;">&nbsp;</p><p style="margin-left: 40px;">&nbsp;NCyTE is funded by the National Science Foundation grant #2054724</p><p style="text-align: left;">&nbsp;</p>
X-ALT-DESC;FMTTYPE=text/html:<p style="text-align: center;"></p><p style="text-align: center;">February 17, 2023</p><p style="text-align: center;">9:00 am PST</p><p style="text-align: center;">&nbsp;</p><p>Data pathways will be explored concerning geospatial technologies and the requirements between open-source data, information security, and geospatial ethics.</p><p>As technologies are developed for autonomous transportation, it is critically important that the positional location data is kept secure. Typically through the use of the Global Navigation Satellite System (GNSS), often referred to as Global Position System (GPS), as well as ground-based transponders.</p><p>Positional awareness through the use of location data, as well as open-source services such as Open Street Map (OSM) and how it has been used in the war in Ukraine, will be discussed.</p><p><strong>Who should attend?&nbsp;</strong>&nbsp;<br>Anyone interested in positional data security and learning how information is collected and displayed.</p><p style="text-align: left;"></p><p><hr></p><p align="left"><strong>Event Facilitator:</strong></p><p align="left"><strong>Vincent DiNoto Jr.</strong></p><p style="margin-left: 40px;" align="left">Director of the National Geospatial Technology Center of Excellence&nbsp;<a href="https://www.geotechcenter.org/" title="Geotech center website link" target="_blank">(GeoTech Center)</a><br>Co-PI of the National Center of Autonomous Technology<br>Professor of Physics, Astronomy, and Geospatial Technology<br>Dean of College and Systemic Technology<br><a href="mailto:vince.dinoto@kctcs.edu" target="_blank">vince.dinoto@kctcs.edu</a></p><p style="margin-left: 40px;">Degrees from Indiana State University in Terre Haute, IN, Physics.</p><p style="margin-left: 40px;">Current research interests are using geospatial technology in historical research, such as redlining, battlefield mapping, and Sanborn Insurance Maps. Data collection of community items. Curriculum Design in web mapping and using Python in Mapping.</p><p style="text-align: center;"><a href="	https://ncytecenter.wildapricot.org/event-5108384 " target="_blank">REGISTER TO ATTEND</a></p><p style="margin-left: 40px;"></p><p style="margin-left: 40px;">&nbsp;</p><p style="margin-left: 40px;">&nbsp;NCyTE is funded by the National Science Foundation grant #2054724</p><p style="text-align: left;">&nbsp;</p>
LOCATION:Virtual\, 
CLASS:PUBLIC
END:VEVENT
END:VCALENDAR
