BEGIN:VCALENDAR
VERSION:2.0
PRODID:NCyTE Center Calendar Creator
METHOD:PUBLISH
BEGIN:VEVENT
DTSTAMP:20221128T091030
DTSTART:20230120T090000
DTEND:20230120T100000
SUMMARY:NCyTE Member Meeting
DESCRIPTION:<p style="text-align: center;"></p><p style="text-align: center;">Friday, January 20, 2023</p><p style="text-align: center;">9:00 am PST</p><p style="text-align: left;">NCyTE is offering a ten&nbsp;week&nbsp;Virtual Cybersecurity Career Challenge for college students&nbsp;April 10 through June 17. Students gain real-world experience by working in teams of&nbsp;&nbsp;three on a small network of machines, which they configure, operate, protect, and defend. At this month's member meeting,&nbsp;Vincent Nestler will be covering the highlights from last spring's Cybersecurity Career Challenge and what students can expect in the spring of 2023.</p><p style="text-align: left;"></p><hr><p><br /></p><p><strong>Presenter:&nbsp;</strong>Vincent Nestler, Associate Professor, CSUSB, Senior Personnel,&nbsp;NCyTE Center</p><p></p><p style="text-align: center;"><a href="https://ncytecenter.wildapricot.org/event-5047066" target="_blank"><strong>REGISTER TO ATTEND</strong></a></p><p style="text-align: center;"><strong>&nbsp;</strong></p>NCyTE is funded by the National Science Foundation grant #2054724.
X-ALT-DESC;FMTTYPE=text/html:<p style="text-align: center;"></p><p style="text-align: center;">Friday, January 20, 2023</p><p style="text-align: center;">9:00 am PST</p><p style="text-align: left;">NCyTE is offering a ten&nbsp;week&nbsp;Virtual Cybersecurity Career Challenge for college students&nbsp;April 10 through June 17. Students gain real-world experience by working in teams of&nbsp;&nbsp;three on a small network of machines, which they configure, operate, protect, and defend. At this month's member meeting,&nbsp;Vincent Nestler will be covering the highlights from last spring's Cybersecurity Career Challenge and what students can expect in the spring of 2023.</p><p style="text-align: left;"></p><hr><p><br /></p><p><strong>Presenter:&nbsp;</strong>Vincent Nestler, Associate Professor, CSUSB, Senior Personnel,&nbsp;NCyTE Center</p><p></p><p style="text-align: center;"><a href="https://ncytecenter.wildapricot.org/event-5047066" target="_blank"><strong>REGISTER TO ATTEND</strong></a></p><p style="text-align: center;"><strong>&nbsp;</strong></p>NCyTE is funded by the National Science Foundation grant #2054724.
LOCATION:Virtual\, 
CLASS:PUBLIC
END:VEVENT
END:VCALENDAR
