BEGIN:VCALENDAR
VERSION:2.0
PRODID:NCyTE Center Calendar Creator
METHOD:PUBLISH
BEGIN:VEVENT
DTSTAMP:20221028T103540
DTSTART:20221208T080000
DTEND:20221209T120000
SUMMARY:Community College Cybersecurity Strategic Summit
DESCRIPTION:<p align="center">&nbsp;</p><p align="center">&nbsp;In collaboration with the National Science Foundation (NSF) and the Office of the National Cyber Director (ONCD),</p><p align="center">this event is hosted by the&nbsp;National Cybersecurity Training &amp; Education Center (NCyTE) and Whatcom Community College (WCC).&nbsp;</p><p align="left"><strong>About the event:</strong></p><p align="left">The Community College Cybersecurity Summit will bring together leaders and stakeholders in cybersecurity workforce development including community college faculty and administrators, corporate partners, and government representatives. Participants from the Northwestern region of the U.S. and across the nation will examine what is working, what is needed, and how federal programs may be able to stimulate key identified initiatives and strategies.</p><p align="left"><strong>Key Topics:</strong></p><ul>    <li>Motivating and sustaining a whole-of-nation effort to develop the country's cyber workforce</li>    <li>&nbsp;Addressing the shortage of secondary and community college educators in cybersecurity</li>    <li>Aligning educational programs and workforce requirements</li>    <li>Standardizing data for jobs and Classification of Instructional Program (CIP) codes</li>    <li>Expanding &amp; measuring diversification initiatives in cybersecurity at community Colleges</li>    <li>Clarifying&nbsp;pathways into cybersecurity careers</li>    <li>President's Focus Group: The role and impact of administrators</li></ul><p align="center" style="text-align: left;">&nbsp;Travel stipends will&nbsp;be provided to confirmed participants who need assistance.&nbsp;</p><p align="center"><span style="text-align: left;"></span></p><p align="left">This summit is funded by a National Science Foundation grants #1937905,&nbsp; #1842096</p>
X-ALT-DESC;FMTTYPE=text/html:<p align="center">&nbsp;</p><p align="center">&nbsp;In collaboration with the National Science Foundation (NSF) and the Office of the National Cyber Director (ONCD),</p><p align="center">this event is hosted by the&nbsp;National Cybersecurity Training &amp; Education Center (NCyTE) and Whatcom Community College (WCC).&nbsp;</p><p align="left"><strong>About the event:</strong></p><p align="left">The Community College Cybersecurity Summit will bring together leaders and stakeholders in cybersecurity workforce development including community college faculty and administrators, corporate partners, and government representatives. Participants from the Northwestern region of the U.S. and across the nation will examine what is working, what is needed, and how federal programs may be able to stimulate key identified initiatives and strategies.</p><p align="left"><strong>Key Topics:</strong></p><ul>    <li>Motivating and sustaining a whole-of-nation effort to develop the country's cyber workforce</li>    <li>&nbsp;Addressing the shortage of secondary and community college educators in cybersecurity</li>    <li>Aligning educational programs and workforce requirements</li>    <li>Standardizing data for jobs and Classification of Instructional Program (CIP) codes</li>    <li>Expanding &amp; measuring diversification initiatives in cybersecurity at community Colleges</li>    <li>Clarifying&nbsp;pathways into cybersecurity careers</li>    <li>President's Focus Group: The role and impact of administrators</li></ul><p align="center" style="text-align: left;">&nbsp;Travel stipends will&nbsp;be provided to confirmed participants who need assistance.&nbsp;</p><p align="center"><span style="text-align: left;"></span></p><p align="left">This summit is funded by a National Science Foundation grants #1937905,&nbsp; #1842096</p>
LOCATION:
CLASS:PUBLIC
END:VEVENT
END:VCALENDAR
