BEGIN:VCALENDAR
VERSION:2.0
PRODID:NCyTE Center Calendar Creator
METHOD:PUBLISH
BEGIN:VEVENT
DTSTAMP:20260409T135948
DTSTART:20260813T000000
DTEND:20260814T235900
SUMMARY:Faculty Development Academy: CIPP/US for Community College Faculty
DESCRIPTION:<p align="center"><strong>Faculty Development Academy:</strong></p><p align="center"><strong><em>CIPP/US for Community College Faculty</em></strong></p><p align="center">Virtual | August 13-14, 2026<strong><br><strong><strong><strong>8AM - 4PM Pacific / 9AM - 5PM Mountain / 10AM - 6PM Central / 11AM - 7PM Eastern</strong></strong></strong></strong></p><p align="center"><strong><strong><strong><strong><a href="https://ncytecenter.wildapricot.org/event-6632625" target="_blank" rel="noopener">REGISTRATION</a></strong></strong></strong></strong></p><p align="left"><em><strong>Who Should Attend:</strong><br></em></p><p align="left">This workshop is funded and tailored specifically for&nbsp;<strong>community and technical college faculty</strong>&nbsp;members&nbsp;wishing to expand their knowledge, earn an industry certification, and strengthen their ability to incorporate new cybersecurity content in their community college curriculum.&nbsp;This workshop is&nbsp;not&nbsp;intended for students or other non-faculty participants.</p><p><strong>About the Workshop:&nbsp;</strong></p><p>Designed for community college faculty, this workshop introduces the fundamentals of U.S. privacy law through the lens of the Certified Information Privacy Professional (CIPP/US) framework. Participants will explore key regulations, data protection principles, and real-world applications relevant to education settings, gaining practical knowledge to better understand privacy responsibilities and prepare students for careers in data privacy and compliance.</p>Workshop participants are expected to actively engage in the workshop by participating in the hands-on activities and interactive discussions.<div><p>To be eligible for future funding from NCyTE, you must also complete the follow-up survey which you will receive in approximately 6 months following this training.</p></div><p><strong>Facilitators:</strong></p><ul>    <li>Kristine Christensen - Moraine Valley Community College</li></ul><br>
X-ALT-DESC;FMTTYPE=text/html:<p align="center"><strong>Faculty Development Academy:</strong></p><p align="center"><strong><em>CIPP/US for Community College Faculty</em></strong></p><p align="center">Virtual | August 13-14, 2026<strong><br><strong><strong><strong>8AM - 4PM Pacific / 9AM - 5PM Mountain / 10AM - 6PM Central / 11AM - 7PM Eastern</strong></strong></strong></strong></p><p align="center"><strong><strong><strong><strong><a href="https://ncytecenter.wildapricot.org/event-6632625" target="_blank" rel="noopener">REGISTRATION</a></strong></strong></strong></strong></p><p align="left"><em><strong>Who Should Attend:</strong><br></em></p><p align="left">This workshop is funded and tailored specifically for&nbsp;<strong>community and technical college faculty</strong>&nbsp;members&nbsp;wishing to expand their knowledge, earn an industry certification, and strengthen their ability to incorporate new cybersecurity content in their community college curriculum.&nbsp;This workshop is&nbsp;not&nbsp;intended for students or other non-faculty participants.</p><p><strong>About the Workshop:&nbsp;</strong></p><p>Designed for community college faculty, this workshop introduces the fundamentals of U.S. privacy law through the lens of the Certified Information Privacy Professional (CIPP/US) framework. Participants will explore key regulations, data protection principles, and real-world applications relevant to education settings, gaining practical knowledge to better understand privacy responsibilities and prepare students for careers in data privacy and compliance.</p>Workshop participants are expected to actively engage in the workshop by participating in the hands-on activities and interactive discussions.<div><p>To be eligible for future funding from NCyTE, you must also complete the follow-up survey which you will receive in approximately 6 months following this training.</p></div><p><strong>Facilitators:</strong></p><ul>    <li>Kristine Christensen - Moraine Valley Community College</li></ul><br>
LOCATION:Virtual\, 
CLASS:PUBLIC
END:VEVENT
END:VCALENDAR
