BEGIN:VCALENDAR
VERSION:2.0
PRODID:NCyTE Center Calendar Creator
METHOD:PUBLISH
BEGIN:VEVENT
DTSTAMP:20260409T135024
DTSTART:20260716T090000
DTEND:20260717T170000
SUMMARY:Faculty Development Academy:  Using Agentic AI and AI Agents
DESCRIPTION:<p align="center"><strong>Faculty Development Academy:</strong></p><p align="center"><strong><em>Using Agentic AI and AI Agents*</em></strong></p><p align="center">Brookdale Community College | July 16-17, 2026<strong><br></strong></p><p align="center"><strong><em>*This event is invite only.</em></strong></p><p align="left"><em><strong>Who Should Attend:</strong><br></em></p><p align="left">This workshop is funded and tailored specifically for&nbsp;<strong>community and technical college faculty</strong>&nbsp;members&nbsp;wishing to expand their knowledge, earn an industry certification, and strengthen their ability to incorporate new cybersecurity content in their community college curriculum.&nbsp;<strong><em>This workshop is invite only and is&nbsp;not&nbsp;intended for students or other non-faculty participants.</em></strong></p><p><strong>About the Workshop:&nbsp;</strong></p><p align="left">This intensive two-day workshop introduces agentic browsers—AI-powered tools that autonomously navigate, interact with, and extract information from websites on behalf of users—to cybersecurity and technology educators. Participants will explore how these intelligent agents combine large language models with browser automation to perform complex multi-step tasks such as competitive research, data gathering, form completion, and systematic web monitoring. The workshop emphasizes practical applications in education, cybersecurity training, and business contexts, with hands-on experience using leading platforms including Claude in Chrome (Anthropic), Browser Use, and other emerging agentic browser technologies. Through structured exercises, educators will learn to leverage these tools for curriculum development, threat intelligence gathering, student research scaffolding, and automated assessment workflows.</p><p align="left">For cybersecurity educators specifically, this workshop demonstrates how agentic browsers can revolutionize security research and training methodologies. Participants will practice using these tools to automate vulnerability research across multiple vendor sites, aggregate threat intelligence from disparate sources, monitor dark web marketplaces for educational case studies, and create realistic penetration testing scenarios. Teachers will learn how to use agentic browsers in lab exercises so that students can safely learn about reconnaissance techniques, practice gathering OSINT (Open Source Intelligence), and see how automated tools can be used for both defensive security monitoring and adversarial automation. The workshop includes critical discussions on the security implications of agentic browsers, including potential misuse vectors, detection strategies, and defensive considerations.</p><p align="left">Beyond cybersecurity applications, participants will discover how agentic browsers transform general educational practices and administrative workflows. The workshop includes real-world examples like using automated literature reviews for research, gathering job postings to match curriculum, analyzing training programs at similar schools, and keeping track of regulatory changes that impact educational technology. Educators will complete hands-on projects that include building a custom research assistant for student projects, creating automated monitoring systems for scholarship opportunities, developing comparison matrices of educational technology tools, and designing assignment workflows that leverage agentic browsing for authentic learning experiences. By workshop conclusion, participants will possess both theoretical understanding and practical skills to ethically integrate agentic browsers into their teaching, research, and administrative responsibilities.</p><p>Workshop participants are expected to actively engage in the workshop by participating in the hands-on activities and interactive discussions.</p><div><p>To be eligible for future funding from NCyTE, you must also complete the follow-up survey which you will receive in approximately 6 months following this training.</p><p><strong>Facilitators:</strong></p><ul>    <li>John Sands - Moraine Valley Community College</li>    <li>Jiri Jirik - Moraine Valley Community College</li>    <li>Mike Qaissaunee - Brookdale Community College</li></ul></div><br>
X-ALT-DESC;FMTTYPE=text/html:<p align="center"><strong>Faculty Development Academy:</strong></p><p align="center"><strong><em>Using Agentic AI and AI Agents*</em></strong></p><p align="center">Brookdale Community College | July 16-17, 2026<strong><br></strong></p><p align="center"><strong><em>*This event is invite only.</em></strong></p><p align="left"><em><strong>Who Should Attend:</strong><br></em></p><p align="left">This workshop is funded and tailored specifically for&nbsp;<strong>community and technical college faculty</strong>&nbsp;members&nbsp;wishing to expand their knowledge, earn an industry certification, and strengthen their ability to incorporate new cybersecurity content in their community college curriculum.&nbsp;<strong><em>This workshop is invite only and is&nbsp;not&nbsp;intended for students or other non-faculty participants.</em></strong></p><p><strong>About the Workshop:&nbsp;</strong></p><p align="left">This intensive two-day workshop introduces agentic browsers—AI-powered tools that autonomously navigate, interact with, and extract information from websites on behalf of users—to cybersecurity and technology educators. Participants will explore how these intelligent agents combine large language models with browser automation to perform complex multi-step tasks such as competitive research, data gathering, form completion, and systematic web monitoring. The workshop emphasizes practical applications in education, cybersecurity training, and business contexts, with hands-on experience using leading platforms including Claude in Chrome (Anthropic), Browser Use, and other emerging agentic browser technologies. Through structured exercises, educators will learn to leverage these tools for curriculum development, threat intelligence gathering, student research scaffolding, and automated assessment workflows.</p><p align="left">For cybersecurity educators specifically, this workshop demonstrates how agentic browsers can revolutionize security research and training methodologies. Participants will practice using these tools to automate vulnerability research across multiple vendor sites, aggregate threat intelligence from disparate sources, monitor dark web marketplaces for educational case studies, and create realistic penetration testing scenarios. Teachers will learn how to use agentic browsers in lab exercises so that students can safely learn about reconnaissance techniques, practice gathering OSINT (Open Source Intelligence), and see how automated tools can be used for both defensive security monitoring and adversarial automation. The workshop includes critical discussions on the security implications of agentic browsers, including potential misuse vectors, detection strategies, and defensive considerations.</p><p align="left">Beyond cybersecurity applications, participants will discover how agentic browsers transform general educational practices and administrative workflows. The workshop includes real-world examples like using automated literature reviews for research, gathering job postings to match curriculum, analyzing training programs at similar schools, and keeping track of regulatory changes that impact educational technology. Educators will complete hands-on projects that include building a custom research assistant for student projects, creating automated monitoring systems for scholarship opportunities, developing comparison matrices of educational technology tools, and designing assignment workflows that leverage agentic browsing for authentic learning experiences. By workshop conclusion, participants will possess both theoretical understanding and practical skills to ethically integrate agentic browsers into their teaching, research, and administrative responsibilities.</p><p>Workshop participants are expected to actively engage in the workshop by participating in the hands-on activities and interactive discussions.</p><div><p>To be eligible for future funding from NCyTE, you must also complete the follow-up survey which you will receive in approximately 6 months following this training.</p><p><strong>Facilitators:</strong></p><ul>    <li>John Sands - Moraine Valley Community College</li>    <li>Jiri Jirik - Moraine Valley Community College</li>    <li>Mike Qaissaunee - Brookdale Community College</li></ul></div><br>
LOCATION:Brookdale Community College\, 765 Newman Springs Rd Lincroft\, New Jersey 07738
CLASS:PUBLIC
END:VEVENT
END:VCALENDAR
