BEGIN:VCALENDAR
VERSION:2.0
PRODID:NCyTE Center Calendar Creator
METHOD:PUBLISH
BEGIN:VEVENT
DTSTAMP:20221026T144301
DTSTART:20230118T000000
DTEND:20230121T235900
SUMMARY:AACC Workforce Development Institute 2023 Conference
DESCRIPTION:<h2 style="text-align: center;">American Association of Community Colleges (AACC) Workforce Development Institute (WDI) 2023: Shockproof</h2><h2 style="text-align: center;">January 18 - 21, 2023</h2><h3 style="text-align: center;">Hyatt Regency Indian Wells Resort &amp; Spa<br>44600 Indian Wells Lane<br>Indian Wells, CA 92210</h3><p style="text-align: center;">&nbsp;</p><p>The American Association of Community Colleges (AACC) is proud to present their annual Workforce Development Institute (WDI).&nbsp; WDI 2023: Shockproof is the premier annual convening for new and seasoned community college-based workforce and economic development professionals. WDI 2023:&nbsp; Shockproof will be held January 18-21, 2023.&nbsp;&nbsp;AACC anticipates approximately 700 attendees from community colleges across the country focused on workforce and economic development to participate in this year's conference. Their&nbsp;program will feature an array of perspectives highlighting innovative strategies and promising practices to support your workforce and economic development efforts.</p><p><strong>Registration Rates</strong>:</p><p>AACC Member rate (Early Bird): $850.00*<br>AACC Member full rate:&nbsp; $900.00<br>Non-member rate: $950.00<br>Speaker rate: $750.00<br>Preconference Sessions: $150.00</p><p><a href="https://cvent.me/7m4gzl" target="_blank" rel="nofollow"><strong>Register now</strong></a></p><p>&nbsp;</p>
X-ALT-DESC;FMTTYPE=text/html:<h2 style="text-align: center;">American Association of Community Colleges (AACC) Workforce Development Institute (WDI) 2023: Shockproof</h2><h2 style="text-align: center;">January 18 - 21, 2023</h2><h3 style="text-align: center;">Hyatt Regency Indian Wells Resort &amp; Spa<br>44600 Indian Wells Lane<br>Indian Wells, CA 92210</h3><p style="text-align: center;">&nbsp;</p><p>The American Association of Community Colleges (AACC) is proud to present their annual Workforce Development Institute (WDI).&nbsp; WDI 2023: Shockproof is the premier annual convening for new and seasoned community college-based workforce and economic development professionals. WDI 2023:&nbsp; Shockproof will be held January 18-21, 2023.&nbsp;&nbsp;AACC anticipates approximately 700 attendees from community colleges across the country focused on workforce and economic development to participate in this year's conference. Their&nbsp;program will feature an array of perspectives highlighting innovative strategies and promising practices to support your workforce and economic development efforts.</p><p><strong>Registration Rates</strong>:</p><p>AACC Member rate (Early Bird): $850.00*<br>AACC Member full rate:&nbsp; $900.00<br>Non-member rate: $950.00<br>Speaker rate: $750.00<br>Preconference Sessions: $150.00</p><p><a href="https://cvent.me/7m4gzl" target="_blank" rel="nofollow"><strong>Register now</strong></a></p><p>&nbsp;</p>
LOCATION:Hyatt Regency Indian Wells Resort & Spa\, 44600 Indian Wells Lane Indian Wells\, California 92210
CLASS:PUBLIC
END:VEVENT
END:VCALENDAR
