BEGIN:VCALENDAR
VERSION:2.0
PRODID:NCyTE Center Calendar Creator
METHOD:PUBLISH
BEGIN:VEVENT
DTSTAMP:20260408T153507
DTSTART:20260521T000000
DTEND:20260522T235900
SUMMARY:Faculty Development Academy: Azure Cloud Administration
DESCRIPTION:<p align="center" data-darkreader-inline-bgcolor=""><strong>Faculty Development Academy:</strong></p><p align="center" data-darkreader-inline-bgcolor=""><strong><em>Azure Cloud Administration</em></strong></p><p align="center" data-darkreader-inline-bgcolor="">Virtual | May 21-22, 2026<strong><br><strong><strong><strong>8AM - 4PM Pacific / 9AM - 5PM Mountain / 10AM - 6PM Central / 11AM - 7PM Eastern</strong></strong></strong></strong></p><p align="center" data-darkreader-inline-bgcolor=""><strong><strong><strong><strong><a href="https://ncytecenter.wildapricot.org/event-6631348/Registration" target="_blank" rel="noopener">REGISTRATION</a></strong></strong></strong></strong></p><p align="left" data-darkreader-inline-bgcolor=""><em><strong>Who Should Attend:</strong><br></em></p><p align="left" data-darkreader-inline-bgcolor="">This workshop is funded and tailored specifically for&nbsp;<strong>community and technical college faculty</strong>&nbsp;members&nbsp;wishing to expand their knowledge, earn an industry certification, and strengthen their ability to incorporate new cybersecurity content in their community college curriculum.&nbsp;This workshop is&nbsp;not&nbsp;intended for students or other non-faculty participants.</p><p data-darkreader-inline-bgcolor=""><strong>About the Workshop:&nbsp;</strong></p><p>Designed for community college educators in IT and cybersecurity, this workshop provides a robust foundation in Microsoft Azure to enhance teaching and curriculum development. Through hands-on labs and interactive discussions, participants will gain a solid understanding of core Azure services—from virtual machines and storage solutions to networking and identity management—and learn best practices for integrating cloud computing into their programs.</p><p>This course empowers educators to foster innovative, collaborative learning environments that prepare students for careers in cloud administration and the evolving demands of today’s digital workforce. Participants will also explore how Azure aligns with industry certifications and workforce pathways, helping students build in-demand cloud skills.</p><p>Workshop Highlights:</p><ul>    <li><strong>Foundations of Azure:</strong> Core concepts and services, including compute (Virtual Machines), storage, networking (Virtual Networks), and identity management (Azure Active Directory / Microsoft Entra ID).</li>    <li><strong>Hands-On Lab Activities:</strong> Practical exercises designed to build real-world cloud administration and deployment skills.</li>    <li><strong>Curriculum Integration:</strong> Strategies to embed Azure content into IT and cybersecurity courses, including alignment with certification objectives.</li>    <li><strong>Team Collaboration Projects:</strong> Engaging projects that demonstrate cloud deployment, management, and security applications in education.</li>    <li><strong>Real-World Case Studies:</strong> Insights into how Azure is used across industries and how to translate those use cases into classroom instruction.</li></ul><p data-darkreader-inline-bgcolor="">Workshop participants are expected to actively engage in the workshop by participating in the hands-on activities and interactive discussions.</p><div><p>To be eligible for future funding from NCyTE, you must also complete the follow-up survey which you will receive in approximately 6 months following this training.</p><p data-darkreader-inline-bgcolor=""><strong>Facilitators:</strong></p><ul>    <li>Kyle Jones - Sinclair Community College</li>    <li>Doug Hampton - Sinclair Community College</li></ul></div><br>
X-ALT-DESC;FMTTYPE=text/html:<p align="center" data-darkreader-inline-bgcolor=""><strong>Faculty Development Academy:</strong></p><p align="center" data-darkreader-inline-bgcolor=""><strong><em>Azure Cloud Administration</em></strong></p><p align="center" data-darkreader-inline-bgcolor="">Virtual | May 21-22, 2026<strong><br><strong><strong><strong>8AM - 4PM Pacific / 9AM - 5PM Mountain / 10AM - 6PM Central / 11AM - 7PM Eastern</strong></strong></strong></strong></p><p align="center" data-darkreader-inline-bgcolor=""><strong><strong><strong><strong><a href="https://ncytecenter.wildapricot.org/event-6631348/Registration" target="_blank" rel="noopener">REGISTRATION</a></strong></strong></strong></strong></p><p align="left" data-darkreader-inline-bgcolor=""><em><strong>Who Should Attend:</strong><br></em></p><p align="left" data-darkreader-inline-bgcolor="">This workshop is funded and tailored specifically for&nbsp;<strong>community and technical college faculty</strong>&nbsp;members&nbsp;wishing to expand their knowledge, earn an industry certification, and strengthen their ability to incorporate new cybersecurity content in their community college curriculum.&nbsp;This workshop is&nbsp;not&nbsp;intended for students or other non-faculty participants.</p><p data-darkreader-inline-bgcolor=""><strong>About the Workshop:&nbsp;</strong></p><p>Designed for community college educators in IT and cybersecurity, this workshop provides a robust foundation in Microsoft Azure to enhance teaching and curriculum development. Through hands-on labs and interactive discussions, participants will gain a solid understanding of core Azure services—from virtual machines and storage solutions to networking and identity management—and learn best practices for integrating cloud computing into their programs.</p><p>This course empowers educators to foster innovative, collaborative learning environments that prepare students for careers in cloud administration and the evolving demands of today’s digital workforce. Participants will also explore how Azure aligns with industry certifications and workforce pathways, helping students build in-demand cloud skills.</p><p>Workshop Highlights:</p><ul>    <li><strong>Foundations of Azure:</strong> Core concepts and services, including compute (Virtual Machines), storage, networking (Virtual Networks), and identity management (Azure Active Directory / Microsoft Entra ID).</li>    <li><strong>Hands-On Lab Activities:</strong> Practical exercises designed to build real-world cloud administration and deployment skills.</li>    <li><strong>Curriculum Integration:</strong> Strategies to embed Azure content into IT and cybersecurity courses, including alignment with certification objectives.</li>    <li><strong>Team Collaboration Projects:</strong> Engaging projects that demonstrate cloud deployment, management, and security applications in education.</li>    <li><strong>Real-World Case Studies:</strong> Insights into how Azure is used across industries and how to translate those use cases into classroom instruction.</li></ul><p data-darkreader-inline-bgcolor="">Workshop participants are expected to actively engage in the workshop by participating in the hands-on activities and interactive discussions.</p><div><p>To be eligible for future funding from NCyTE, you must also complete the follow-up survey which you will receive in approximately 6 months following this training.</p><p data-darkreader-inline-bgcolor=""><strong>Facilitators:</strong></p><ul>    <li>Kyle Jones - Sinclair Community College</li>    <li>Doug Hampton - Sinclair Community College</li></ul></div><br>
LOCATION:Virtual\, 
CLASS:PUBLIC
END:VEVENT
END:VCALENDAR
