BEGIN:VCALENDAR
VERSION:2.0
PRODID:NCyTE Center Calendar Creator
METHOD:PUBLISH
BEGIN:VEVENT
DTSTAMP:20260408T150903
DTSTART:20260505T000000
DTEND:20260506T235900
SUMMARY:Implications of Artificial Intelligence for Educators - UAH & UT Southern
DESCRIPTION:<p align="center" data-darkreader-inline-bgcolor=""><strong>Implications of Artificial Intelligence for</strong> <strong>Educators</strong></p><p align="center" data-darkreader-inline-bgcolor=""><strong><em>Empowering Educators to Leverage AI&nbsp;both in the Teach and Learning Process</em></strong></p><p align="center" data-darkreader-inline-bgcolor=""><strong>Date:</strong><br>May 5-6, 2026</p><p align="center" data-darkreader-inline-bgcolor=""><strong>Time:</strong><br>8:30 AM - 2:15 PM Eastern</p><p align="center"><strong>Location: (IN-PERSON)</strong></p><p align="center">&nbsp;</p><p align="center">Gault Fine Arts Center</p><p align="center">University of Tennessee Southern</p><p align="center">423 W Madison St</p><p align="center">Pulaski, TN 38478</p><p align="center"><strong>Partnership with UAH &amp; UT Southern</strong></p><div align="center"></div><p align="center"><a href="https://forms.office.com/pages/responsepage.aspx?id=2RNYUX1x3UWeypqhnAnW-bsKBjx5TW1Hm8crnnqVAGRUMVRHUThDMTU2NkFYWEpSSkJVREU0SzlXUy4u&amp;route=shorturl" target="_blank">REGISTRATION</a></p><p align="left" data-darkreader-inline-bgcolor=""><strong>Who Should Attend:</strong></p><p>This workshop is designed for faculty, staff, counselors, and advisors who want to integrate AI into teaching and curriculum development. It’s ideal for those interested in enhancing student engagement, streamlining tasks, and preparing students for an AI-driven future.</p><p>The session also prepares attendees for the Microsoft Azure AI Fundamentals Certification exam (exam cost not included).</p><p data-darkreader-inline-bgcolor=""><strong>Workshop Description:&nbsp;</strong></p><p data-darkreader-inline-bgcolor="">This workshop empowers university, community college, and high school faculty, staff, counselors, and academic advisors with the knowledge and tools to effectively integrate AI into their teaching practices and curriculum development. Participants will explore practical applications of AI, including lesson planning, designing engaging and interactive content, creating dynamic assessments, and customizing individualized student learning experiences. Additionally, the workshop will highlight how to enable students to use AI in ethical and productive ways across various disciplines.</p><p data-darkreader-inline-bgcolor="">Through hands-on activities, collaborative projects, and real-world examples, faculty will gain a deeper understanding of AI’s transformative role in education. They will also explore new forms of student engagement, ensuring responsible AI use in both teaching and learning environments. This workshop prepares educators to harness AI to enhance classroom instruction, streamline administrative tasks, and equip students with the skills needed to navigate an AI-driven future.</p><p><strong>Workshop Highlights:</strong></p><ul>    <li><strong>AI in Action:</strong> Explore how AI enhances decision-making, problem-solving, and data analysis across disciplines.</li>    <li><strong>Interactive Applications:</strong> Engage in hands-on activities showcasing AI in classrooms, administrative tasks, and real-world scenarios.</li>    <li><strong>Ethics &amp; Challenges:</strong> Examine ethical dilemmas, misinformation, Deep Fake detection, and compliance with privacy and fairness standards.</li>    <li><strong>AI-Driven Tools:</strong> Learn to design adaptive assessments, create course bots, and implement virtual teaching assistants.</li>    <li><strong>Curriculum Integration:</strong> Discover strategies for embedding AI into lesson plans to enhance learning experiences.</li>    <li><strong>Future-Ready Students:</strong> Equip learners with the skills and critical thinking needed for success in an AI-driven world.</li></ul><p>Additional Information:</p><ul>    <li>Attending only one of the two days is strongly discouraged. The first day provides foundational content and is followed by a day of building artifacts using AI tools.</li>    <li>For faculty, please have syllabi and other classroom materials available, as we will be using these to create new content.</li>    <li>Lunch will be on your own.</li>    <li>Attendees will be required to complete a post-workshop survey. Please watch for a follow-up survey in approximately six months to share how you've applied the workshop content!</li></ul><p data-darkreader-inline-bgcolor="">The NCyTE Center will not be providing travel support for this workshop.</p><p data-darkreader-inline-bgcolor=""><strong>Facilitators:</strong></p><ul>    <li>John Sands - Moraine Valley Community College</li>    <li>Mike Qaissaunee - Brookdale Community College</li>    <li>Jiri Jirik&nbsp;- Moraine Valley Community College</li></ul><br>
X-ALT-DESC;FMTTYPE=text/html:<p align="center" data-darkreader-inline-bgcolor=""><strong>Implications of Artificial Intelligence for</strong> <strong>Educators</strong></p><p align="center" data-darkreader-inline-bgcolor=""><strong><em>Empowering Educators to Leverage AI&nbsp;both in the Teach and Learning Process</em></strong></p><p align="center" data-darkreader-inline-bgcolor=""><strong>Date:</strong><br>May 5-6, 2026</p><p align="center" data-darkreader-inline-bgcolor=""><strong>Time:</strong><br>8:30 AM - 2:15 PM Eastern</p><p align="center"><strong>Location: (IN-PERSON)</strong></p><p align="center">&nbsp;</p><p align="center">Gault Fine Arts Center</p><p align="center">University of Tennessee Southern</p><p align="center">423 W Madison St</p><p align="center">Pulaski, TN 38478</p><p align="center"><strong>Partnership with UAH &amp; UT Southern</strong></p><div align="center"></div><p align="center"><a href="https://forms.office.com/pages/responsepage.aspx?id=2RNYUX1x3UWeypqhnAnW-bsKBjx5TW1Hm8crnnqVAGRUMVRHUThDMTU2NkFYWEpSSkJVREU0SzlXUy4u&amp;route=shorturl" target="_blank">REGISTRATION</a></p><p align="left" data-darkreader-inline-bgcolor=""><strong>Who Should Attend:</strong></p><p>This workshop is designed for faculty, staff, counselors, and advisors who want to integrate AI into teaching and curriculum development. It’s ideal for those interested in enhancing student engagement, streamlining tasks, and preparing students for an AI-driven future.</p><p>The session also prepares attendees for the Microsoft Azure AI Fundamentals Certification exam (exam cost not included).</p><p data-darkreader-inline-bgcolor=""><strong>Workshop Description:&nbsp;</strong></p><p data-darkreader-inline-bgcolor="">This workshop empowers university, community college, and high school faculty, staff, counselors, and academic advisors with the knowledge and tools to effectively integrate AI into their teaching practices and curriculum development. Participants will explore practical applications of AI, including lesson planning, designing engaging and interactive content, creating dynamic assessments, and customizing individualized student learning experiences. Additionally, the workshop will highlight how to enable students to use AI in ethical and productive ways across various disciplines.</p><p data-darkreader-inline-bgcolor="">Through hands-on activities, collaborative projects, and real-world examples, faculty will gain a deeper understanding of AI’s transformative role in education. They will also explore new forms of student engagement, ensuring responsible AI use in both teaching and learning environments. This workshop prepares educators to harness AI to enhance classroom instruction, streamline administrative tasks, and equip students with the skills needed to navigate an AI-driven future.</p><p><strong>Workshop Highlights:</strong></p><ul>    <li><strong>AI in Action:</strong> Explore how AI enhances decision-making, problem-solving, and data analysis across disciplines.</li>    <li><strong>Interactive Applications:</strong> Engage in hands-on activities showcasing AI in classrooms, administrative tasks, and real-world scenarios.</li>    <li><strong>Ethics &amp; Challenges:</strong> Examine ethical dilemmas, misinformation, Deep Fake detection, and compliance with privacy and fairness standards.</li>    <li><strong>AI-Driven Tools:</strong> Learn to design adaptive assessments, create course bots, and implement virtual teaching assistants.</li>    <li><strong>Curriculum Integration:</strong> Discover strategies for embedding AI into lesson plans to enhance learning experiences.</li>    <li><strong>Future-Ready Students:</strong> Equip learners with the skills and critical thinking needed for success in an AI-driven world.</li></ul><p>Additional Information:</p><ul>    <li>Attending only one of the two days is strongly discouraged. The first day provides foundational content and is followed by a day of building artifacts using AI tools.</li>    <li>For faculty, please have syllabi and other classroom materials available, as we will be using these to create new content.</li>    <li>Lunch will be on your own.</li>    <li>Attendees will be required to complete a post-workshop survey. Please watch for a follow-up survey in approximately six months to share how you've applied the workshop content!</li></ul><p data-darkreader-inline-bgcolor="">The NCyTE Center will not be providing travel support for this workshop.</p><p data-darkreader-inline-bgcolor=""><strong>Facilitators:</strong></p><ul>    <li>John Sands - Moraine Valley Community College</li>    <li>Mike Qaissaunee - Brookdale Community College</li>    <li>Jiri Jirik&nbsp;- Moraine Valley Community College</li></ul><br>
LOCATION:Gault Fine Arts Center  University of Tennessee Southern\, 423 W Madison St Pulaski\, Tennessee 38478
CLASS:PUBLIC
END:VEVENT
END:VCALENDAR
