BEGIN:VCALENDAR
VERSION:2.0
PRODID:NCyTE Center Calendar Creator
METHOD:PUBLISH
BEGIN:VEVENT
DTSTAMP:20260408T153203
DTSTART:20260423T093000
DTEND:20260424T163000
SUMMARY:Implications of Artificial Intelligence for Educators - Bunker Hill Community College
DESCRIPTION:<p align="center" data-darkreader-inline-bgcolor="" data-wacopycontent="1"><strong data-wacopycontent="1">Implications of Artificial Intelligence for</strong> <strong data-wacopycontent="1">Educators</strong></p><p align="center" data-darkreader-inline-bgcolor="" data-wacopycontent="1"><strong data-wacopycontent="1"><em data-wacopycontent="1">Empowering Educators to Leverage AI&nbsp;both in the Teach and Learning Process</em></strong></p><p align="center" data-darkreader-inline-bgcolor="" data-wacopycontent="1"><strong data-wacopycontent="1">Date:</strong><br data-wacopycontent="1">April 23-24, 2026</p><p align="center" data-darkreader-inline-bgcolor="" data-wacopycontent="1"><strong data-wacopycontent="1">Time:</strong><br data-wacopycontent="1">9:30AM-4:30PM Eastern</p><p align="center" data-wacopycontent="1"><strong data-wacopycontent="1">Location: (IN-PERSON)</strong><br data-wacopycontent="1">Bunker Hill Community College<br data-wacopycontent="1"></p><div align="center" data-wacopycontent="1"> 250 New Rutherford Avenue, </div><div align="center" data-wacopycontent="1"> Boston, MA 02129 </div><p align="center" data-wacopycontent="1">&nbsp;</p><p align="center" data-wacopycontent="1"><a href="https://ncytecenter.wildapricot.org/event-6631412/Registration" target="_blank" rel="noopener">REGISTRATION LINK</a></p><p align="left" data-darkreader-inline-bgcolor="" data-wacopycontent="1"><strong data-wacopycontent="1">Who Should Attend:</strong><br data-wacopycontent="1"></p><p data-wacopycontent="1">This workshop is designed for faculty, staff, counselors, and advisors who want to integrate AI into teaching and curriculum development. It’s ideal for those interested in enhancing student engagement, streamlining tasks, and preparing students for an AI-driven future.</p><p data-wacopycontent="1">The session also prepares attendees for the Microsoft Azure AI Fundamentals Certification exam (exam cost not included).</p><p data-darkreader-inline-bgcolor="" data-wacopycontent="1"><strong data-wacopycontent="1">Workshop Description:&nbsp;</strong></p><p data-darkreader-inline-bgcolor="" data-wacopycontent="1">This workshop empowers university, community college, and high school faculty, staff, counselors, and academic advisors with the knowledge and tools to effectively integrate AI into their teaching practices and curriculum development. Participants will explore practical applications of AI, including lesson planning, designing engaging and interactive content, creating dynamic assessments, and customizing individualized student learning experiences. Additionally, the workshop will highlight how to enable students to use AI in ethical and productive ways across various disciplines.</p><p data-darkreader-inline-bgcolor="" data-wacopycontent="1">Through hands-on activities, collaborative projects, and real-world examples, faculty will gain a deeper understanding of AI’s transformative role in education. They will also explore new forms of student engagement, ensuring responsible AI use in both teaching and learning environments. This workshop prepares educators to harness AI to enhance classroom instruction, streamline administrative tasks, and equip students with the skills needed to navigate an AI-driven future.</p><p data-wacopycontent="1"><strong data-wacopycontent="1">Workshop Highlights:</strong><br data-wacopycontent="1"></p><ul data-wacopycontent="1">    <li data-wacopycontent="1"><strong data-wacopycontent="1">AI in Action:</strong> Explore how AI enhances decision-making, problem-solving, and data analysis across disciplines.</li>    <li data-wacopycontent="1"><strong data-wacopycontent="1">Interactive Applications:</strong> Engage in hands-on activities showcasing AI in classrooms, administrative tasks, and real-world scenarios.</li>    <li data-wacopycontent="1"><strong data-wacopycontent="1">Ethics &amp; Challenges:</strong> Examine ethical dilemmas, misinformation, Deep Fake detection, and compliance with privacy and fairness standards.</li>    <li data-wacopycontent="1"><strong data-wacopycontent="1">AI-Driven Tools:</strong> Learn to design adaptive assessments, create course bots, and implement virtual teaching assistants.</li>    <li data-wacopycontent="1"><strong data-wacopycontent="1">Curriculum Integration:</strong> Discover strategies for embedding AI into lesson plans to enhance learning experiences.</li>    <li data-wacopycontent="1"><strong data-wacopycontent="1">Future-Ready Students:</strong> Equip learners with the skills and critical thinking needed for success in an AI-driven world.</li></ul><p data-wacopycontent="1">Additional Information:</p><ul data-wacopycontent="1">    <li data-wacopycontent="1">Attending only one of the two days is strongly discouraged. The first day provides foundational content and is followed by a day of building artifacts using AI tools.</li>    <li data-wacopycontent="1">For faculty, please have syllabi and other classroom materials available, as we will be using these to create new content.</li>    <li data-wacopycontent="1">Lunch will be on your own.</li>    <li data-wacopycontent="1">Attendees will be required to complete a post-workshop survey. Please watch for a follow-up survey in approximately six months to share how you've applied the workshop content!</li></ul><p data-darkreader-inline-bgcolor="" data-wacopycontent="1">The NCyTE Center will not be providing travel support for this workshop.</p><p data-darkreader-inline-bgcolor="" data-wacopycontent="1"><strong data-wacopycontent="1">Facilitators:</strong></p><ul data-wacopycontent="1">    <li data-wacopycontent="1">John Sands - Moraine Valley Community College</li>    <li data-wacopycontent="1">Mike Qaissaunee - Brookdale Community College</li>    <li data-wacopycontent="1">Jiri Jirik&nbsp;- Moraine Valley Community College</li></ul><br>
X-ALT-DESC;FMTTYPE=text/html:<p align="center" data-darkreader-inline-bgcolor="" data-wacopycontent="1"><strong data-wacopycontent="1">Implications of Artificial Intelligence for</strong> <strong data-wacopycontent="1">Educators</strong></p><p align="center" data-darkreader-inline-bgcolor="" data-wacopycontent="1"><strong data-wacopycontent="1"><em data-wacopycontent="1">Empowering Educators to Leverage AI&nbsp;both in the Teach and Learning Process</em></strong></p><p align="center" data-darkreader-inline-bgcolor="" data-wacopycontent="1"><strong data-wacopycontent="1">Date:</strong><br data-wacopycontent="1">April 23-24, 2026</p><p align="center" data-darkreader-inline-bgcolor="" data-wacopycontent="1"><strong data-wacopycontent="1">Time:</strong><br data-wacopycontent="1">9:30AM-4:30PM Eastern</p><p align="center" data-wacopycontent="1"><strong data-wacopycontent="1">Location: (IN-PERSON)</strong><br data-wacopycontent="1">Bunker Hill Community College<br data-wacopycontent="1"></p><div align="center" data-wacopycontent="1"> 250 New Rutherford Avenue, </div><div align="center" data-wacopycontent="1"> Boston, MA 02129 </div><p align="center" data-wacopycontent="1">&nbsp;</p><p align="center" data-wacopycontent="1"><a href="https://ncytecenter.wildapricot.org/event-6631412/Registration" target="_blank" rel="noopener">REGISTRATION LINK</a></p><p align="left" data-darkreader-inline-bgcolor="" data-wacopycontent="1"><strong data-wacopycontent="1">Who Should Attend:</strong><br data-wacopycontent="1"></p><p data-wacopycontent="1">This workshop is designed for faculty, staff, counselors, and advisors who want to integrate AI into teaching and curriculum development. It’s ideal for those interested in enhancing student engagement, streamlining tasks, and preparing students for an AI-driven future.</p><p data-wacopycontent="1">The session also prepares attendees for the Microsoft Azure AI Fundamentals Certification exam (exam cost not included).</p><p data-darkreader-inline-bgcolor="" data-wacopycontent="1"><strong data-wacopycontent="1">Workshop Description:&nbsp;</strong></p><p data-darkreader-inline-bgcolor="" data-wacopycontent="1">This workshop empowers university, community college, and high school faculty, staff, counselors, and academic advisors with the knowledge and tools to effectively integrate AI into their teaching practices and curriculum development. Participants will explore practical applications of AI, including lesson planning, designing engaging and interactive content, creating dynamic assessments, and customizing individualized student learning experiences. Additionally, the workshop will highlight how to enable students to use AI in ethical and productive ways across various disciplines.</p><p data-darkreader-inline-bgcolor="" data-wacopycontent="1">Through hands-on activities, collaborative projects, and real-world examples, faculty will gain a deeper understanding of AI’s transformative role in education. They will also explore new forms of student engagement, ensuring responsible AI use in both teaching and learning environments. This workshop prepares educators to harness AI to enhance classroom instruction, streamline administrative tasks, and equip students with the skills needed to navigate an AI-driven future.</p><p data-wacopycontent="1"><strong data-wacopycontent="1">Workshop Highlights:</strong><br data-wacopycontent="1"></p><ul data-wacopycontent="1">    <li data-wacopycontent="1"><strong data-wacopycontent="1">AI in Action:</strong> Explore how AI enhances decision-making, problem-solving, and data analysis across disciplines.</li>    <li data-wacopycontent="1"><strong data-wacopycontent="1">Interactive Applications:</strong> Engage in hands-on activities showcasing AI in classrooms, administrative tasks, and real-world scenarios.</li>    <li data-wacopycontent="1"><strong data-wacopycontent="1">Ethics &amp; Challenges:</strong> Examine ethical dilemmas, misinformation, Deep Fake detection, and compliance with privacy and fairness standards.</li>    <li data-wacopycontent="1"><strong data-wacopycontent="1">AI-Driven Tools:</strong> Learn to design adaptive assessments, create course bots, and implement virtual teaching assistants.</li>    <li data-wacopycontent="1"><strong data-wacopycontent="1">Curriculum Integration:</strong> Discover strategies for embedding AI into lesson plans to enhance learning experiences.</li>    <li data-wacopycontent="1"><strong data-wacopycontent="1">Future-Ready Students:</strong> Equip learners with the skills and critical thinking needed for success in an AI-driven world.</li></ul><p data-wacopycontent="1">Additional Information:</p><ul data-wacopycontent="1">    <li data-wacopycontent="1">Attending only one of the two days is strongly discouraged. The first day provides foundational content and is followed by a day of building artifacts using AI tools.</li>    <li data-wacopycontent="1">For faculty, please have syllabi and other classroom materials available, as we will be using these to create new content.</li>    <li data-wacopycontent="1">Lunch will be on your own.</li>    <li data-wacopycontent="1">Attendees will be required to complete a post-workshop survey. Please watch for a follow-up survey in approximately six months to share how you've applied the workshop content!</li></ul><p data-darkreader-inline-bgcolor="" data-wacopycontent="1">The NCyTE Center will not be providing travel support for this workshop.</p><p data-darkreader-inline-bgcolor="" data-wacopycontent="1"><strong data-wacopycontent="1">Facilitators:</strong></p><ul data-wacopycontent="1">    <li data-wacopycontent="1">John Sands - Moraine Valley Community College</li>    <li data-wacopycontent="1">Mike Qaissaunee - Brookdale Community College</li>    <li data-wacopycontent="1">Jiri Jirik&nbsp;- Moraine Valley Community College</li></ul><br>
LOCATION:Bunker Hill Community College\, 250 New Rutherford Avenue Boston\, Massachusetts 02129
CLASS:PUBLIC
END:VEVENT
END:VCALENDAR
