BEGIN:VCALENDAR
VERSION:2.0
PRODID:NCyTE Center Calendar Creator
METHOD:PUBLISH
BEGIN:VEVENT
DTSTAMP:20260323T162345
DTSTART:20260608T080000
DTEND:20260612T170000
SUMMARY:2026 WASTC Virtual Faculty Development Weeks
DESCRIPTION:<p>&nbsp;<strong style="font-family: inherit; color: rgb(0, 48, 92); font-size: 32px;">Week 2: June 8 to 12</strong></p><p><strong>USC </strong>- Hands-on Labs on IDS, P4-DPDK, and DPUs<strong> <br>Netacad</strong> - CCNA Plus (CCNP lite): Topics for CCNA Instructors<br><strong>Splunk</strong> - Search Expert Fast Start and Boss of the SOC (BOTS)<br><strong>NCyTE</strong> - Using AI to Build CMMC Teaching Tools<br><strong>BACCC</strong> - NETLAB+ Custom Lab and Pod Development<br><strong>AWS &amp; the AWS Academy</strong> - AI and the Cloud (more details coming soon</p><p>&nbsp;</p><p><a href="https://www.engagez.net/2026vfdw" target="_blank" rel="noopener">Register</a></p><p><a href="https://www.wastc.org/2026-vfdw" target="_blank" rel="noopener">Learn More</a></p>
X-ALT-DESC;FMTTYPE=text/html:<p>&nbsp;<strong style="font-family: inherit; color: rgb(0, 48, 92); font-size: 32px;">Week 2: June 8 to 12</strong></p><p><strong>USC </strong>- Hands-on Labs on IDS, P4-DPDK, and DPUs<strong> <br>Netacad</strong> - CCNA Plus (CCNP lite): Topics for CCNA Instructors<br><strong>Splunk</strong> - Search Expert Fast Start and Boss of the SOC (BOTS)<br><strong>NCyTE</strong> - Using AI to Build CMMC Teaching Tools<br><strong>BACCC</strong> - NETLAB+ Custom Lab and Pod Development<br><strong>AWS &amp; the AWS Academy</strong> - AI and the Cloud (more details coming soon</p><p>&nbsp;</p><p><a href="https://www.engagez.net/2026vfdw" target="_blank" rel="noopener">Register</a></p><p><a href="https://www.wastc.org/2026-vfdw" target="_blank" rel="noopener">Learn More</a></p>
LOCATION:
CLASS:PUBLIC
END:VEVENT
END:VCALENDAR
