BEGIN:VCALENDAR
VERSION:2.0
PRODID:NCyTE Center Calendar Creator
METHOD:PUBLISH
BEGIN:VEVENT
DTSTAMP:20260323T162204
DTSTART:20260601T080000
DTEND:20260605T170000
SUMMARY:2026 WASTC Virtual Faculty Development Weeks
DESCRIPTION:<h1><strong>Week 1: June 1 to 5</strong></h1><p><strong>Splunk</strong> - Search Expert Fast Start and Boss of the SOC (BOTS)<br><strong>Pentesting</strong> - Lab Materials/Lab Environment AI Development<br><strong>Open EDG</strong> - Become a Certified Python Programmer with PCEP<br><strong>EPNC</strong> - Empowering Educators to Leverage AI both in the Teaching and Learning Process<br><strong>Palo Alto Networks</strong> - Cybersecurity Academy Curriculum Overview<br><strong>Tableau </strong>- Foundations of Data Analytics &amp; BI with Tableau Labs</p><p><a href="https://www.engagez.net/2026vfdw" target="_blank" rel="noopener">Registration&nbsp;</a></p><p><a href="https://www.wastc.org/2026-vfdw" target="_blank" rel="noopener">Learn more</a></p><p>&nbsp;</p><p></p><div></div><scribe-shadow id="crxjs-ext" data-crx="okfkdaglfjjjfefdcppliegebpoegaii" style="position: fixed; width: 0px; height: 0px; top: 0px; left: 0px; z-index: 2147483647; overflow: visible; visibility: visible;"></scribe-shadow>
X-ALT-DESC;FMTTYPE=text/html:<h1><strong>Week 1: June 1 to 5</strong></h1><p><strong>Splunk</strong> - Search Expert Fast Start and Boss of the SOC (BOTS)<br><strong>Pentesting</strong> - Lab Materials/Lab Environment AI Development<br><strong>Open EDG</strong> - Become a Certified Python Programmer with PCEP<br><strong>EPNC</strong> - Empowering Educators to Leverage AI both in the Teaching and Learning Process<br><strong>Palo Alto Networks</strong> - Cybersecurity Academy Curriculum Overview<br><strong>Tableau </strong>- Foundations of Data Analytics &amp; BI with Tableau Labs</p><p><a href="https://www.engagez.net/2026vfdw" target="_blank" rel="noopener">Registration&nbsp;</a></p><p><a href="https://www.wastc.org/2026-vfdw" target="_blank" rel="noopener">Learn more</a></p><p>&nbsp;</p><p></p><div></div><scribe-shadow id="crxjs-ext" data-crx="okfkdaglfjjjfefdcppliegebpoegaii" style="position: fixed; width: 0px; height: 0px; top: 0px; left: 0px; z-index: 2147483647; overflow: visible; visibility: visible;"></scribe-shadow>
LOCATION:
CLASS:PUBLIC
END:VEVENT
END:VCALENDAR
