BEGIN:VCALENDAR
VERSION:2.0
PRODID:NCyTE Center Calendar Creator
METHOD:PUBLISH
BEGIN:VEVENT
DTSTAMP:20260316T133239
DTSTART:20260428T080000
DTEND:20260430T170000
SUMMARY:2026 CAE in Cybersecurity Community Symposium
DESCRIPTION:<p wixui-rich-text__text"="">The 2026 Symposium will take place&nbsp;April 28–30, 2026, at the&nbsp;Wyndham Grand Pittsburgh Downtown&nbsp;in&nbsp;Pittsburgh, Pennsylvania. This year’s theme,&nbsp;“Get Involved,”&nbsp;encourages every attendee to deepen connections, engage with ongoing CAE initiatives, and discover opportunities to collaborate across Communities of Practice (CAE-CD, CAE-CO, CAE-R, and POS-Cyber AI).</p><p wixui-rich-text__text"="">New for 2026, the&nbsp;CAE Community National Center (CNC)&nbsp;will open a&nbsp;Call for Proposals for general session presentations, expanding opportunities for faculty and practitioners to share their insights and engage directly with the broader CAE network.</p><p wixui-rich-text__text"="">Whether you’re returning or attending for the first time, the 2026 Symposium is your chance to connect with leaders shaping cybersecurity education and to take an active role in the CAE Community’s next chapter.</p><p wixui-rich-text__text"="" style="text-align: center;"><a href="https://www.caecommunity.org/2026-symposium/registration" target="_blank" rel="noopener">REGISTER</a></p><p wixui-rich-text__text"="" style="text-align: center;">&nbsp;</p><p wixui-rich-text__text"="" style="text-align: center;">&nbsp;</p>
X-ALT-DESC;FMTTYPE=text/html:<p wixui-rich-text__text"="">The 2026 Symposium will take place&nbsp;April 28–30, 2026, at the&nbsp;Wyndham Grand Pittsburgh Downtown&nbsp;in&nbsp;Pittsburgh, Pennsylvania. This year’s theme,&nbsp;“Get Involved,”&nbsp;encourages every attendee to deepen connections, engage with ongoing CAE initiatives, and discover opportunities to collaborate across Communities of Practice (CAE-CD, CAE-CO, CAE-R, and POS-Cyber AI).</p><p wixui-rich-text__text"="">New for 2026, the&nbsp;CAE Community National Center (CNC)&nbsp;will open a&nbsp;Call for Proposals for general session presentations, expanding opportunities for faculty and practitioners to share their insights and engage directly with the broader CAE network.</p><p wixui-rich-text__text"="">Whether you’re returning or attending for the first time, the 2026 Symposium is your chance to connect with leaders shaping cybersecurity education and to take an active role in the CAE Community’s next chapter.</p><p wixui-rich-text__text"="" style="text-align: center;"><a href="https://www.caecommunity.org/2026-symposium/registration" target="_blank" rel="noopener">REGISTER</a></p><p wixui-rich-text__text"="" style="text-align: center;">&nbsp;</p><p wixui-rich-text__text"="" style="text-align: center;">&nbsp;</p>
LOCATION:Wyndham Grand\, 600 Commonwealth Place Pittsburgh\, Pennsylvania 15222
CLASS:PUBLIC
END:VEVENT
END:VCALENDAR
