BEGIN:VCALENDAR
VERSION:2.0
PRODID:NCyTE Center Calendar Creator
METHOD:PUBLISH
BEGIN:VEVENT
DTSTAMP:20260316T130457
DTSTART:20260424T090000
DTEND:20260425T130000
SUMMARY:Faculty Fellowship Program: Microsoft 21st Century Skills - Classroom Management, Methods, and Pedagogy Workshop
DESCRIPTION:<p align="center"><em>Virtual Sessions:<br>7AM-11AM Hawaii<br>9AM-1PM Pacific<br>10AM-2PM Mountain<br>11AM-3PM Central<br>12PM-4PM Eastern</em></p><p align="center"><span style="color: rgb(255, 0, 0);">By invitation only</span></p><p>The&nbsp;<strong>National Community College Cybersecurity Faculty Fellowship Program</strong>&nbsp;will introduce students for a career path of teaching cybersecurity in a community college setting.&nbsp;&nbsp;Program participants are accepted through a competitive application process each year.</p><p>This workshop is one part of that program.&nbsp;&nbsp;Prerequisite is completion of the NCyTE Cybersecurity Fellowship Orientation.</p><p><strong>Who should attend:</strong></p><p>Attendance is limited to participants who attended the Faculty Fellowship Orientation Workshop in February or March 2026.</p><ul></ul>    <p><strong>About the Workshop:&nbsp;</strong></p>    <p>After completing the orientation, all participants will be required to complete a 16-hour virtual workshop designed to prepare participants with basic knowledge and skills to be an effective community college cybersecurity educator. Participants will acquire insights into teaching and learning pedagogy, classroom management skills, student assessment, curriculum development, and the cultivation of student workforce competencies.</p>    <p><strong>Workshop Highlights</strong></p>    <p>The Microsoft 21st Century Skills focus on the following teaching domains:</p>    <ul>        <li>Collaboration</li>        <li>Skilled Communication</li>        <li>Critical Thinking and Autonomous Learning</li>        <li>Classroom Relevance and Real-World Problem Solving</li>        <li>Use of Instructional Technology, Tools, and Techniques</li>    </ul>    <p align="left">The workshop will prepare students to take the required Microsoft Certified Educator (MCE) certification.</p>    <p align="left">To learn more about the Faculty Fellowship Program, please contact NCyTE@whatcom.edu</p>
X-ALT-DESC;FMTTYPE=text/html:<p align="center"><em>Virtual Sessions:<br>7AM-11AM Hawaii<br>9AM-1PM Pacific<br>10AM-2PM Mountain<br>11AM-3PM Central<br>12PM-4PM Eastern</em></p><p align="center"><span style="color: rgb(255, 0, 0);">By invitation only</span></p><p>The&nbsp;<strong>National Community College Cybersecurity Faculty Fellowship Program</strong>&nbsp;will introduce students for a career path of teaching cybersecurity in a community college setting.&nbsp;&nbsp;Program participants are accepted through a competitive application process each year.</p><p>This workshop is one part of that program.&nbsp;&nbsp;Prerequisite is completion of the NCyTE Cybersecurity Fellowship Orientation.</p><p><strong>Who should attend:</strong></p><p>Attendance is limited to participants who attended the Faculty Fellowship Orientation Workshop in February or March 2026.</p><ul></ul>    <p><strong>About the Workshop:&nbsp;</strong></p>    <p>After completing the orientation, all participants will be required to complete a 16-hour virtual workshop designed to prepare participants with basic knowledge and skills to be an effective community college cybersecurity educator. Participants will acquire insights into teaching and learning pedagogy, classroom management skills, student assessment, curriculum development, and the cultivation of student workforce competencies.</p>    <p><strong>Workshop Highlights</strong></p>    <p>The Microsoft 21st Century Skills focus on the following teaching domains:</p>    <ul>        <li>Collaboration</li>        <li>Skilled Communication</li>        <li>Critical Thinking and Autonomous Learning</li>        <li>Classroom Relevance and Real-World Problem Solving</li>        <li>Use of Instructional Technology, Tools, and Techniques</li>    </ul>    <p align="left">The workshop will prepare students to take the required Microsoft Certified Educator (MCE) certification.</p>    <p align="left">To learn more about the Faculty Fellowship Program, please contact NCyTE@whatcom.edu</p>
LOCATION:
CLASS:PUBLIC
END:VEVENT
END:VCALENDAR
