BEGIN:VCALENDAR
VERSION:2.0
PRODID:NCyTE Center Calendar Creator
METHOD:PUBLISH
BEGIN:VEVENT
DTSTAMP:20260316T124909
DTSTART:20260410T080000
DTEND:20260414T170000
SUMMARY:AACC Annual Conference 2026
DESCRIPTION:<p style="text-align: center;">AACC Annual Conference 2026</p><p style="text-align: center;">April 10- 14, 2026</p><p style="text-align: center;"><a href="https://aaccannual.com/" target="_blank" rel="noopener">REGISTER TO ATTEND</a></p><p>&nbsp;The American Association of Community Colleges (AACC) hosts one of the most significant professional development events for leaders in community colleges and providers engaged with the two-year college sector. This event includes high-energy keynote presentations and breakout sessions addressing the sector's most pressing issues and opportunities, disruptive technology showcases, deep-dive problem solving work sessions, and unparalleled networking opportunities.</p>
X-ALT-DESC;FMTTYPE=text/html:<p style="text-align: center;">AACC Annual Conference 2026</p><p style="text-align: center;">April 10- 14, 2026</p><p style="text-align: center;"><a href="https://aaccannual.com/" target="_blank" rel="noopener">REGISTER TO ATTEND</a></p><p>&nbsp;The American Association of Community Colleges (AACC) hosts one of the most significant professional development events for leaders in community colleges and providers engaged with the two-year college sector. This event includes high-energy keynote presentations and breakout sessions addressing the sector's most pressing issues and opportunities, disruptive technology showcases, deep-dive problem solving work sessions, and unparalleled networking opportunities.</p>
LOCATION:
CLASS:PUBLIC
END:VEVENT
END:VCALENDAR
