BEGIN:VCALENDAR
VERSION:2.0
PRODID:NCyTE Center Calendar Creator
METHOD:PUBLISH
BEGIN:VEVENT
DTSTAMP:20260316T123017
DTSTART:20260316T080000
DTEND:20260317T170000
SUMMARY:CyberEd New Orleans
DESCRIPTION:&nbsp;<b>CyberEd New Orleans 2026</b>&nbsp;will convene cybersecurity experts to advance, strengthen, and expand cybersecurity education and workforce development—with a particular focus this year on <b>Cyber + AI</b>.<p>This year’s highlights will include:</p><ul type="disc" data-start="862" data-end="1092">    <li>A <b>curriculum showcase</b>&nbsp;featuring innovative approaches and exemplar materials in CyberAI</li>    <li>Collaborative work sessions focused on refining and aligning to the <b>Knowledge Units in CyberAI.&nbsp;</b></li></ul><p>To learn more information about this event and learn more about CyEd future events, please contact Blair Taylor or Sidd Kaza at Towson University.&nbsp;</p>
X-ALT-DESC;FMTTYPE=text/html:&nbsp;<b>CyberEd New Orleans 2026</b>&nbsp;will convene cybersecurity experts to advance, strengthen, and expand cybersecurity education and workforce development—with a particular focus this year on <b>Cyber + AI</b>.<p>This year’s highlights will include:</p><ul type="disc" data-start="862" data-end="1092">    <li>A <b>curriculum showcase</b>&nbsp;featuring innovative approaches and exemplar materials in CyberAI</li>    <li>Collaborative work sessions focused on refining and aligning to the <b>Knowledge Units in CyberAI.&nbsp;</b></li></ul><p>To learn more information about this event and learn more about CyEd future events, please contact Blair Taylor or Sidd Kaza at Towson University.&nbsp;</p>
LOCATION:
CLASS:PUBLIC
END:VEVENT
END:VCALENDAR
