BEGIN:VCALENDAR
VERSION:2.0
PRODID:NCyTE Center Calendar Creator
METHOD:PUBLISH
BEGIN:VEVENT
DTSTAMP:20260225T150857
DTSTART:20260227T080000
DTEND:20260227T090000
SUMMARY:NSF Webinar on Open Solicitation NSF 26-503: Artificial Intelligence and Cybersecurity Education
DESCRIPTION:<p>Please join <b><u><a href="https://linkprotect.cudasvc.com/url?a=https%3a%2f%2fwww.nsf.gov%2fevents%2fsolicitation-webinar-artificial-intelligence-cybersecurity%2f2026-02-27&amp;c=E,1,xKPF7ijx6y_89yA3xvoHn3nj9wEnM_siHctH-q7zXwzkJDgKxCQANrmiI6l46PE1iyJpXT2l_s3WWZYgQsyIeFDXaDHNwuJb-QJOGGxoVMqXHsIVZg,,&amp;typo=1">NSF Webinar</a></u></b>&nbsp;to learn about&nbsp;a new&nbsp;solicitation <b><u><a href="https://linkprotect.cudasvc.com/url?a=https%3a%2f%2fwww.nsf.gov%2ffunding%2fopportunities%2fcyberai-sfs-cyberaicorps-scholarship-service%2fnsf26-503%2fsolicitation&amp;c=E,1,D6GCDhshx2lJRN19nRliSCpBoKOY_GcCHaObUvo6v07mS00v8pjtXZaYb9FszrkrT6ybRI03-FGkkHFIR-n26b6ggtGf5j3FRUljgtqn8cMmc2V2klHi&amp;typo=1">NSF 26-503:</a></u></b><u><a href="https://linkprotect.cudasvc.com/url?a=https%3a%2f%2fwww.nsf.gov%2ffunding%2fopportunities%2fcyberai-sfs-cyberaicorps-scholarship-service%2fnsf26-503%2fsolicitation&amp;c=E,1,D6GCDhshx2lJRN19nRliSCpBoKOY_GcCHaObUvo6v07mS00v8pjtXZaYb9FszrkrT6ybRI03-FGkkHFIR-n26b6ggtGf5j3FRUljgtqn8cMmc2V2klHi&amp;typo=1">&nbsp;</a><b><a href="https://linkprotect.cudasvc.com/url?a=https%3a%2f%2fwww.nsf.gov%2ffunding%2fopportunities%2fcyberai-sfs-cyberaicorps-scholarship-service%2fnsf26-503%2fsolicitation&amp;c=E,1,D6GCDhshx2lJRN19nRliSCpBoKOY_GcCHaObUvo6v07mS00v8pjtXZaYb9FszrkrT6ybRI03-FGkkHFIR-n26b6ggtGf5j3FRUljgtqn8cMmc2V2klHi&amp;typo=1">Artificial Intelligence and Cybersecurity Education Innovation and Scholarship for Service</a></b></u>&nbsp;by&nbsp;CyberAI&nbsp;SFS&nbsp;program.&nbsp;</p><p>&nbsp;The Webinar&nbsp;will be held&nbsp;virtually&nbsp;on <b>Friday, February 27, 2026</b>&nbsp; <b>11:00 a.m.</b><b> –</b><b> 12:00 p.m. EST</b>.&nbsp;It will&nbsp;cover&nbsp;two&nbsp;tracks:</p><ul type="disc">    <li><b>Scholarship Track:</b>&nbsp;provides funding to award scholarships to students who commit to post-graduation employment in the AI or cybersecurity mission of a government organization for a period equal to at least the length of the scholarship&nbsp;</li>    <li><b>Innovation Track:</b>&nbsp;supports&nbsp;transformative&nbsp;education&nbsp;efforts&nbsp;in the areas of AI, cybersecurity, or the integration of AI and&nbsp;cybersecurity&nbsp;&nbsp;at&nbsp;all&nbsp;levels&nbsp;</li></ul><p><b>&nbsp;</b><b>Webinar Link</b>: <u><a href="https://linkprotect.cudasvc.com/url?a=https%3a%2f%2fwww.nsf.gov%2fevents%2fsolicitation-webinar-artificial-intelligence-cybersecurity%2f2026-02-27&amp;c=E,1,2lxWJuug7zu87EWlWo7mZhSd-HpszvtLwudSGM4pLAjlCTxhAwMxAlSWN0FjjZR-pKwrqIIyPRulzEIL4B58VWmu4Wl6t647LXxKw9wW5jWNbnlrxs1aLRRkVyJ1&amp;typo=1">A solicitation webinar on Artificial Intelligence and Cybersecurity Education Innovation and Scholarship for Service (CyberAI SFS) | NSF - U.S. National Science Foundation</a></u>&nbsp;</p><p>&nbsp;</p>
X-ALT-DESC;FMTTYPE=text/html:<p>Please join <b><u><a href="https://linkprotect.cudasvc.com/url?a=https%3a%2f%2fwww.nsf.gov%2fevents%2fsolicitation-webinar-artificial-intelligence-cybersecurity%2f2026-02-27&amp;c=E,1,xKPF7ijx6y_89yA3xvoHn3nj9wEnM_siHctH-q7zXwzkJDgKxCQANrmiI6l46PE1iyJpXT2l_s3WWZYgQsyIeFDXaDHNwuJb-QJOGGxoVMqXHsIVZg,,&amp;typo=1">NSF Webinar</a></u></b>&nbsp;to learn about&nbsp;a new&nbsp;solicitation <b><u><a href="https://linkprotect.cudasvc.com/url?a=https%3a%2f%2fwww.nsf.gov%2ffunding%2fopportunities%2fcyberai-sfs-cyberaicorps-scholarship-service%2fnsf26-503%2fsolicitation&amp;c=E,1,D6GCDhshx2lJRN19nRliSCpBoKOY_GcCHaObUvo6v07mS00v8pjtXZaYb9FszrkrT6ybRI03-FGkkHFIR-n26b6ggtGf5j3FRUljgtqn8cMmc2V2klHi&amp;typo=1">NSF 26-503:</a></u></b><u><a href="https://linkprotect.cudasvc.com/url?a=https%3a%2f%2fwww.nsf.gov%2ffunding%2fopportunities%2fcyberai-sfs-cyberaicorps-scholarship-service%2fnsf26-503%2fsolicitation&amp;c=E,1,D6GCDhshx2lJRN19nRliSCpBoKOY_GcCHaObUvo6v07mS00v8pjtXZaYb9FszrkrT6ybRI03-FGkkHFIR-n26b6ggtGf5j3FRUljgtqn8cMmc2V2klHi&amp;typo=1">&nbsp;</a><b><a href="https://linkprotect.cudasvc.com/url?a=https%3a%2f%2fwww.nsf.gov%2ffunding%2fopportunities%2fcyberai-sfs-cyberaicorps-scholarship-service%2fnsf26-503%2fsolicitation&amp;c=E,1,D6GCDhshx2lJRN19nRliSCpBoKOY_GcCHaObUvo6v07mS00v8pjtXZaYb9FszrkrT6ybRI03-FGkkHFIR-n26b6ggtGf5j3FRUljgtqn8cMmc2V2klHi&amp;typo=1">Artificial Intelligence and Cybersecurity Education Innovation and Scholarship for Service</a></b></u>&nbsp;by&nbsp;CyberAI&nbsp;SFS&nbsp;program.&nbsp;</p><p>&nbsp;The Webinar&nbsp;will be held&nbsp;virtually&nbsp;on <b>Friday, February 27, 2026</b>&nbsp; <b>11:00 a.m.</b><b> –</b><b> 12:00 p.m. EST</b>.&nbsp;It will&nbsp;cover&nbsp;two&nbsp;tracks:</p><ul type="disc">    <li><b>Scholarship Track:</b>&nbsp;provides funding to award scholarships to students who commit to post-graduation employment in the AI or cybersecurity mission of a government organization for a period equal to at least the length of the scholarship&nbsp;</li>    <li><b>Innovation Track:</b>&nbsp;supports&nbsp;transformative&nbsp;education&nbsp;efforts&nbsp;in the areas of AI, cybersecurity, or the integration of AI and&nbsp;cybersecurity&nbsp;&nbsp;at&nbsp;all&nbsp;levels&nbsp;</li></ul><p><b>&nbsp;</b><b>Webinar Link</b>: <u><a href="https://linkprotect.cudasvc.com/url?a=https%3a%2f%2fwww.nsf.gov%2fevents%2fsolicitation-webinar-artificial-intelligence-cybersecurity%2f2026-02-27&amp;c=E,1,2lxWJuug7zu87EWlWo7mZhSd-HpszvtLwudSGM4pLAjlCTxhAwMxAlSWN0FjjZR-pKwrqIIyPRulzEIL4B58VWmu4Wl6t647LXxKw9wW5jWNbnlrxs1aLRRkVyJ1&amp;typo=1">A solicitation webinar on Artificial Intelligence and Cybersecurity Education Innovation and Scholarship for Service (CyberAI SFS) | NSF - U.S. National Science Foundation</a></u>&nbsp;</p><p>&nbsp;</p>
LOCATION:
CLASS:PUBLIC
END:VEVENT
END:VCALENDAR
