BEGIN:VCALENDAR
VERSION:2.0
PRODID:NCyTE Center Calendar Creator
METHOD:PUBLISH
BEGIN:VEVENT
DTSTAMP:20260206T130041
DTSTART:20260922T090000
DTEND:20260922T140000
SUMMARY:2026 National Cybersecurity Virtual Career Fair
DESCRIPTION:<div id="comp-md379knl" ku3dbc="" zq9jdz="" qvsjx3="" vq6kjx="" comp-md379knl="" wixui-rich-text"="" data-testid="richTextElement"><h1 wixui-rich-text__text"="" style="text-align: center;">2026&nbsp;National Cybersecurity Virtual Career Fair</h1></div><div id="comp-md379knl9" role="" mdrwhq="" comp-md379knl9="" wixui-box"="" dir="ltr"><div aria-hidden="true" yqufcx="" inner-box="" wixui-box"="" style="text-align: center;"></div><div data-testid="responsive-container-content"><div id="comp-md379knm4" ku3dbc="" zq9jdz="" qvsjx3="" vq6kjx="" comp-md379knm4="" wixui-rich-text"="" data-testid="richTextElement"><h6 wixui-rich-text__text"="" style="text-align: center;">Tuesday, September 22, 2026<br>9:00 AM - 2:00 PM PT</h6><p wixui-rich-text__text"="" style="text-align: left;">This event is open to students from over 470 institutions designated as Centers of Academic Excellence in Cyber-Defense (CAE-CD), Cyber Operations (CAE-CO), and Research (CAE-R) and institutions in the Candidate's program.&nbsp;</p><p wixui-rich-text__text"="" style="text-align: center;">&nbsp;<span style="color: rgb(255, 0, 0);">Stay tuned for registration information&nbsp;</span></p></div></div></div>
X-ALT-DESC;FMTTYPE=text/html:<div id="comp-md379knl" ku3dbc="" zq9jdz="" qvsjx3="" vq6kjx="" comp-md379knl="" wixui-rich-text"="" data-testid="richTextElement"><h1 wixui-rich-text__text"="" style="text-align: center;">2026&nbsp;National Cybersecurity Virtual Career Fair</h1></div><div id="comp-md379knl9" role="" mdrwhq="" comp-md379knl9="" wixui-box"="" dir="ltr"><div aria-hidden="true" yqufcx="" inner-box="" wixui-box"="" style="text-align: center;"></div><div data-testid="responsive-container-content"><div id="comp-md379knm4" ku3dbc="" zq9jdz="" qvsjx3="" vq6kjx="" comp-md379knm4="" wixui-rich-text"="" data-testid="richTextElement"><h6 wixui-rich-text__text"="" style="text-align: center;">Tuesday, September 22, 2026<br>9:00 AM - 2:00 PM PT</h6><p wixui-rich-text__text"="" style="text-align: left;">This event is open to students from over 470 institutions designated as Centers of Academic Excellence in Cyber-Defense (CAE-CD), Cyber Operations (CAE-CO), and Research (CAE-R) and institutions in the Candidate's program.&nbsp;</p><p wixui-rich-text__text"="" style="text-align: center;">&nbsp;<span style="color: rgb(255, 0, 0);">Stay tuned for registration information&nbsp;</span></p></div></div></div>
LOCATION:Virtual\, 
CLASS:PUBLIC
END:VEVENT
END:VCALENDAR
