BEGIN:VCALENDAR
VERSION:2.0
PRODID:NCyTE Center Calendar Creator
METHOD:PUBLISH
BEGIN:VEVENT
DTSTAMP:20260218T124109
DTSTART:20260220T090000
DTEND:20260220T130000
SUMMARY:CAE-CD Community of Practice Workshop - Curriculum and Courseware Showcase
DESCRIPTION:<div id="comp-md6d9mif1" ku3dbc="" zq9jdz="" qvsjx3="" vq6kjx="" comp-md6d9mif1="" wixui-rich-text"="" data-testid="richTextElement"><h3 wixui-rich-text__text"="" style="text-align: center;">CAE Community of Practice Cyber Defense Workshop</h3><p wixui-rich-text__text"="" style="text-align: center;">Curriculum and Courseware Showcase&nbsp;</p><p wixui-rich-text__text"="" style="text-align: center;">February 20th, 2026 -&nbsp;12:00PM – 3:00PM EST</p><p wixui-rich-text__text"="">&nbsp;</p><p wixui-rich-text__text"="">We are excited to announce an upcoming&nbsp;Curriculum and Courseware Showcase&nbsp;happening on&nbsp;Friday, February 20th, 2026, from 12:00PM – 3:00PM EST. This event will highlight innovative, practical, and inspiring approaches to teaching cybersecurity in the CAE Community.&nbsp;Presenters will have a&nbsp;15-minute slot&nbsp;to demonstrate a&nbsp;useful teaching tool, resource, or piece of curriculum&nbsp;that others can adapt or learn from. Whether it’s a classroom-tested activity, an interactive platform, or a creative pedagogical method, this is your opportunity to share something that makes teaching more engaging and impactful. We are accepting&nbsp;8 presentations&nbsp;for this session, and presenters will be notified February 13th.&nbsp;Submission close February 10th!&nbsp;</p><p wixui-rich-text__text"="">&nbsp;Sign up link:&nbsp;<a href="https://forms.office.com/pages/responsepage.aspx?id=qp4718kHxEemzvE77g6BF_TV9P86kvZOkSfT39TFVYJUNFE5OE4ySUk4OERQRVZJTVo3NzUwOTI5UC4u&amp;route=shorturl" target="_blank" rel="noreferrer noopener">Curriculum and Courseware Showcase hosted by the New and Early Career Faculty Initiative&nbsp; – Fill out form</a></p><p wixui-rich-text__text"="">&nbsp;</p></div>
X-ALT-DESC;FMTTYPE=text/html:<div id="comp-md6d9mif1" ku3dbc="" zq9jdz="" qvsjx3="" vq6kjx="" comp-md6d9mif1="" wixui-rich-text"="" data-testid="richTextElement"><h3 wixui-rich-text__text"="" style="text-align: center;">CAE Community of Practice Cyber Defense Workshop</h3><p wixui-rich-text__text"="" style="text-align: center;">Curriculum and Courseware Showcase&nbsp;</p><p wixui-rich-text__text"="" style="text-align: center;">February 20th, 2026 -&nbsp;12:00PM – 3:00PM EST</p><p wixui-rich-text__text"="">&nbsp;</p><p wixui-rich-text__text"="">We are excited to announce an upcoming&nbsp;Curriculum and Courseware Showcase&nbsp;happening on&nbsp;Friday, February 20th, 2026, from 12:00PM – 3:00PM EST. This event will highlight innovative, practical, and inspiring approaches to teaching cybersecurity in the CAE Community.&nbsp;Presenters will have a&nbsp;15-minute slot&nbsp;to demonstrate a&nbsp;useful teaching tool, resource, or piece of curriculum&nbsp;that others can adapt or learn from. Whether it’s a classroom-tested activity, an interactive platform, or a creative pedagogical method, this is your opportunity to share something that makes teaching more engaging and impactful. We are accepting&nbsp;8 presentations&nbsp;for this session, and presenters will be notified February 13th.&nbsp;Submission close February 10th!&nbsp;</p><p wixui-rich-text__text"="">&nbsp;Sign up link:&nbsp;<a href="https://forms.office.com/pages/responsepage.aspx?id=qp4718kHxEemzvE77g6BF_TV9P86kvZOkSfT39TFVYJUNFE5OE4ySUk4OERQRVZJTVo3NzUwOTI5UC4u&amp;route=shorturl" target="_blank" rel="noreferrer noopener">Curriculum and Courseware Showcase hosted by the New and Early Career Faculty Initiative&nbsp; – Fill out form</a></p><p wixui-rich-text__text"="">&nbsp;</p></div>
LOCATION:
CLASS:PUBLIC
END:VEVENT
END:VCALENDAR
