BEGIN:VCALENDAR
VERSION:2.0
PRODID:NCyTE Center Calendar Creator
METHOD:PUBLISH
BEGIN:VEVENT
DTSTAMP:20260206T114439
DTSTART:20260623T070000
DTEND:20260625T190000
SUMMARY:CyAD: Cybersecurity Across Disciplines
DESCRIPTION:<p style="text-align: center;"></p><p align="center">June 23-25, 2026<strong><br></strong></p><p align="center"><strong><strong>In-Person at<br>Moraine Valley Community College<br>9000 W. College Parkway<br>Palos Hills, IL 60465</strong></strong></p><p style="text-align: center;"><div><strong><strong><br></strong></strong></div>This year, we’re excited to expand CyAD to 2.5 days of connection, learning, and inspiration.</p><p style="text-align: center;">Be sure to check out the <a href="https://www.ncyte.net/resources/events/cyad-summit-cybersecurity-across-disciplines/-fsiteid-1#!/" target="_blank" rel="noopener">NCyTE website</a>&nbsp;to register and get more information.&nbsp;</p><p style="text-align: center;">&nbsp;&nbsp;</p><p style="text-align: center;">&nbsp;</p>
X-ALT-DESC;FMTTYPE=text/html:<p style="text-align: center;"></p><p align="center">June 23-25, 2026<strong><br></strong></p><p align="center"><strong><strong>In-Person at<br>Moraine Valley Community College<br>9000 W. College Parkway<br>Palos Hills, IL 60465</strong></strong></p><p style="text-align: center;"><div><strong><strong><br></strong></strong></div>This year, we’re excited to expand CyAD to 2.5 days of connection, learning, and inspiration.</p><p style="text-align: center;">Be sure to check out the <a href="https://www.ncyte.net/resources/events/cyad-summit-cybersecurity-across-disciplines/-fsiteid-1#!/" target="_blank" rel="noopener">NCyTE website</a>&nbsp;to register and get more information.&nbsp;</p><p style="text-align: center;">&nbsp;&nbsp;</p><p style="text-align: center;">&nbsp;</p>
LOCATION:Moraine Valley Community College\, 9000 W. College Parkway Palos Hills\, Illinois 60465
CLASS:PUBLIC
END:VEVENT
END:VCALENDAR
