BEGIN:VCALENDAR
VERSION:2.0
PRODID:NCyTE Center Calendar Creator
METHOD:PUBLISH
BEGIN:VEVENT
DTSTAMP:20260206T111857
DTSTART:20260601T080000
DTEND:20260603T170000
SUMMARY:NICE Conference & Expo
DESCRIPTION:<p style="text-align: center;">&nbsp;</p><p style="text-align: center;"></p><p style="text-align: center;"><a href="https://niceconference.org/registration-landing/" target="_blank" rel="noopener">REGISTER&nbsp;</a></p><p style="text-align: left;"><a href="https://niceconference.org/registration-landing/" target="_blank" rel="noopener">&nbsp;</a><span style="text-align: left;">The&nbsp;2026 NICE Conference &amp; Expo&nbsp;will be held&nbsp;June 1–3, 2026, at the&nbsp;Philadelphia Marriott Downtown&nbsp;in&nbsp;Philadelphia, Pennsylvania.</span></p><p data-start="211" data-end="373">From Foundations to the Future: Transforming the Cybersecurity Workforce, honors our historical roots while looking boldly ahead. This theme highlights the ongoing evolution of workforce development and the sustained efforts of connecting foundational practices with innovative, inclusive approaches designed to address emerging technologies and future challenges.&nbsp;</p>
X-ALT-DESC;FMTTYPE=text/html:<p style="text-align: center;">&nbsp;</p><p style="text-align: center;"></p><p style="text-align: center;"><a href="https://niceconference.org/registration-landing/" target="_blank" rel="noopener">REGISTER&nbsp;</a></p><p style="text-align: left;"><a href="https://niceconference.org/registration-landing/" target="_blank" rel="noopener">&nbsp;</a><span style="text-align: left;">The&nbsp;2026 NICE Conference &amp; Expo&nbsp;will be held&nbsp;June 1–3, 2026, at the&nbsp;Philadelphia Marriott Downtown&nbsp;in&nbsp;Philadelphia, Pennsylvania.</span></p><p data-start="211" data-end="373">From Foundations to the Future: Transforming the Cybersecurity Workforce, honors our historical roots while looking boldly ahead. This theme highlights the ongoing evolution of workforce development and the sustained efforts of connecting foundational practices with innovative, inclusive approaches designed to address emerging technologies and future challenges.&nbsp;</p>
LOCATION:
CLASS:PUBLIC
END:VEVENT
END:VCALENDAR
