BEGIN:VCALENDAR
VERSION:2.0
PRODID:NCyTE Center Calendar Creator
METHOD:PUBLISH
BEGIN:VEVENT
DTSTAMP:20260206T103634
DTSTART:20260415T080000
DTEND:20260415T170000
SUMMARY:Implications of Artificial Intelligence for Educators Workshop
DESCRIPTION:<p><p style="text-align: center;">&nbsp;</p></p><p style="text-align: center;"><a href="https://ncytecenter.wildapricot.org/event-6556759" target="_blank" rel="noopener">&nbsp;REGISTER</a></p><p style="text-align: center;">April 15, 2026 - In-person, </p><p style="text-align: center;">with the second date being virtual, however that date is TBD</p><p><b>Location:</b></p><p>Advanced Technology College</p><p> 1770 N. Technology Blvd.</p><p> Daytona Beach, FL 32117</p><p> Room 126A</p>
X-ALT-DESC;FMTTYPE=text/html:<p><p style="text-align: center;">&nbsp;</p></p><p style="text-align: center;"><a href="https://ncytecenter.wildapricot.org/event-6556759" target="_blank" rel="noopener">&nbsp;REGISTER</a></p><p style="text-align: center;">April 15, 2026 - In-person, </p><p style="text-align: center;">with the second date being virtual, however that date is TBD</p><p><b>Location:</b></p><p>Advanced Technology College</p><p> 1770 N. Technology Blvd.</p><p> Daytona Beach, FL 32117</p><p> Room 126A</p>
LOCATION:
CLASS:PUBLIC
END:VEVENT
END:VCALENDAR
