BEGIN:VCALENDAR
VERSION:2.0
PRODID:NCyTE Center Calendar Creator
METHOD:PUBLISH
BEGIN:VEVENT
DTSTAMP:20260206T100937
DTSTART:20260316T000000
DTEND:20260317T235900
SUMMARY:CyberED 2026
DESCRIPTION:<div et_pb_text="" et_pb_text_2="" et_pb_text_align_left="" et_pb_bg_layout_light"=""><div><h3>Cybersecurity Education Workshop with a Strong Focus on Cyber AI</h3></div></div><div et_pb_text="" et_pb_text_3="" et_pb_text_align_left="" et_pb_bg_layout_light"=""><div><p>Building a cyber-ready workforce is critical to help solve the worsening global cybersecurity crisis. The goal of the Cybersecurity Education Workshop is to bring together experts to focus on improving and sustaining cybersecurity education. CyberEd 2026 will be held March 16-17 in New Orleans, Louisiana.</p></div></div><p><b>MORE DETAILS</b></p><p><a href="https://urldefense.com/v3/__http:/www.towson.edu/cyberedworkshop__;!!PvXuogZ4sRB2p-tU!U2ydz9-UDN8-Z8tQ_dvm8GFIeDW5vKwDII8reeKMFv-A8-I-h90PCLTS2__0BjPY$" title="Original URL: https://urldefense.com/v3/__http://www.towson.edu/cyberedworkshop__;!!PvXuogZ4sRB2p-tU!U2ydz9-UDN8-Z8tQ_dvm8GFIeDW5vKwDII8reeKMFv-A8-I-h90PCLTS2__0BjPY$. Click or tap if you trust this link." data-auth="NotApplicable" data-linkindex="10" data-outlook-id="e034a189-c26c-43a7-8c0b-bd8fae49e921">www.towson.edu/cyberedworkshop</a></p><p>&nbsp;</p><p>This site will be updated as we have new information for the agenda and travel details.</p><p><b>REGISTRATION</b></p><p><a href="https://linkprotect.cudasvc.com/url?a=https%3a%2f%2fforms.office.com%2fr%2f7kuTAUT0kb&amp;c=E,1,pDUg9QqUuK2plxY5Tv-Qg7OvgdonLc3l06SDfH0ixyVd3vjjJbCBY3zuIvlLD-WggdA4OgJdCgb34KXZh7ZfMOv5fpkkU337HJlXRGAJnRD9vmsjdOY4kCJjKDw,&amp;typo=1" title="Original URL: https://forms.office.com/r/7kuTAUT0kb. Click or tap if you trust this link." data-auth="NotApplicable" data-linkindex="8" data-outlook-id="cc31736d-a063-444e-a7f4-3938c43777a1">https://forms.office.com/r/7kuTAUT0kb</a></p><p>&nbsp;</p><p>&nbsp;</p><p>&nbsp;</p>
X-ALT-DESC;FMTTYPE=text/html:<div et_pb_text="" et_pb_text_2="" et_pb_text_align_left="" et_pb_bg_layout_light"=""><div><h3>Cybersecurity Education Workshop with a Strong Focus on Cyber AI</h3></div></div><div et_pb_text="" et_pb_text_3="" et_pb_text_align_left="" et_pb_bg_layout_light"=""><div><p>Building a cyber-ready workforce is critical to help solve the worsening global cybersecurity crisis. The goal of the Cybersecurity Education Workshop is to bring together experts to focus on improving and sustaining cybersecurity education. CyberEd 2026 will be held March 16-17 in New Orleans, Louisiana.</p></div></div><p><b>MORE DETAILS</b></p><p><a href="https://urldefense.com/v3/__http:/www.towson.edu/cyberedworkshop__;!!PvXuogZ4sRB2p-tU!U2ydz9-UDN8-Z8tQ_dvm8GFIeDW5vKwDII8reeKMFv-A8-I-h90PCLTS2__0BjPY$" title="Original URL: https://urldefense.com/v3/__http://www.towson.edu/cyberedworkshop__;!!PvXuogZ4sRB2p-tU!U2ydz9-UDN8-Z8tQ_dvm8GFIeDW5vKwDII8reeKMFv-A8-I-h90PCLTS2__0BjPY$. Click or tap if you trust this link." data-auth="NotApplicable" data-linkindex="10" data-outlook-id="e034a189-c26c-43a7-8c0b-bd8fae49e921">www.towson.edu/cyberedworkshop</a></p><p>&nbsp;</p><p>This site will be updated as we have new information for the agenda and travel details.</p><p><b>REGISTRATION</b></p><p><a href="https://linkprotect.cudasvc.com/url?a=https%3a%2f%2fforms.office.com%2fr%2f7kuTAUT0kb&amp;c=E,1,pDUg9QqUuK2plxY5Tv-Qg7OvgdonLc3l06SDfH0ixyVd3vjjJbCBY3zuIvlLD-WggdA4OgJdCgb34KXZh7ZfMOv5fpkkU337HJlXRGAJnRD9vmsjdOY4kCJjKDw,&amp;typo=1" title="Original URL: https://forms.office.com/r/7kuTAUT0kb. Click or tap if you trust this link." data-auth="NotApplicable" data-linkindex="8" data-outlook-id="cc31736d-a063-444e-a7f4-3938c43777a1">https://forms.office.com/r/7kuTAUT0kb</a></p><p>&nbsp;</p><p>&nbsp;</p><p>&nbsp;</p>
LOCATION:
CLASS:PUBLIC
END:VEVENT
END:VCALENDAR
