BEGIN:VCALENDAR
VERSION:2.0
PRODID:NCyTE Center Calendar Creator
METHOD:PUBLISH
BEGIN:VEVENT
DTSTAMP:20260206T095635
DTSTART:20260225T120000
DTEND:20260225T133000
SUMMARY:Virtual C5 Curriculum Work Session for High School & Middle School Educators
DESCRIPTION:<p style="text-align: center;"></p><p style="text-align: center;"><strong>Date:</strong>&nbsp;February 25, 2026<br><strong>Time:</strong>&nbsp;12:00 PM – 1:30 PM Pacific<br><strong>Location:</strong>&nbsp;Virtual (Zoom link provided upon registration)<br><strong>Fee:</strong>&nbsp;FREE</p><p style="text-align: center;">$250 Participation Stipend Available</p><p style="text-align: center;"><a href="	https://ncytecenter.wildapricot.org/event-6550969 " target="_blank" rel="noopener">REGISTER</a></p><p>Join the National Cybersecurity Training and Education Center (NCyTE) for a focused and interactive virtual C5 Curriculum Work Session created specifically for high school and middle school educators. No prior cybersecurity experience is required, and participation stipends are available for eligible instructors.</p><p>This virtual session invites educators from all subject areas to share their classroom expertise and provide hands-on feedback on the C5 Cybersecurity Concept Lessons. Discussion will center on lessons that connect to Technology, Business, Math, and the broader cybersecurity ecosystem, with an emphasis on strengthening classroom relevance, accessibility, and student engagement.</p><p>The session will focus specifically on AP Computer Science Principles (AP CSP). Educator feedback will directly inform updates to the C5 Cybersecurity Concept Lessons, a set of 13 lessons, along with supporting roadmaps and a planning and pacing guide designed to integrate cybersecurity concepts seamlessly into AP CSP instruction.</p>
X-ALT-DESC;FMTTYPE=text/html:<p style="text-align: center;"></p><p style="text-align: center;"><strong>Date:</strong>&nbsp;February 25, 2026<br><strong>Time:</strong>&nbsp;12:00 PM – 1:30 PM Pacific<br><strong>Location:</strong>&nbsp;Virtual (Zoom link provided upon registration)<br><strong>Fee:</strong>&nbsp;FREE</p><p style="text-align: center;">$250 Participation Stipend Available</p><p style="text-align: center;"><a href="	https://ncytecenter.wildapricot.org/event-6550969 " target="_blank" rel="noopener">REGISTER</a></p><p>Join the National Cybersecurity Training and Education Center (NCyTE) for a focused and interactive virtual C5 Curriculum Work Session created specifically for high school and middle school educators. No prior cybersecurity experience is required, and participation stipends are available for eligible instructors.</p><p>This virtual session invites educators from all subject areas to share their classroom expertise and provide hands-on feedback on the C5 Cybersecurity Concept Lessons. Discussion will center on lessons that connect to Technology, Business, Math, and the broader cybersecurity ecosystem, with an emphasis on strengthening classroom relevance, accessibility, and student engagement.</p><p>The session will focus specifically on AP Computer Science Principles (AP CSP). Educator feedback will directly inform updates to the C5 Cybersecurity Concept Lessons, a set of 13 lessons, along with supporting roadmaps and a planning and pacing guide designed to integrate cybersecurity concepts seamlessly into AP CSP instruction.</p>
LOCATION:Virtual\, 
CLASS:PUBLIC
END:VEVENT
END:VCALENDAR
