BEGIN:VCALENDAR
VERSION:2.0
PRODID:NCyTE Center Calendar Creator
METHOD:PUBLISH
BEGIN:VEVENT
DTSTAMP:20260113T111047
DTSTART:20260116T090000
DTEND:20260117T170000
SUMMARY:Implications of Artificial Intelligence for Educators Workshop
DESCRIPTION:<p style="text-align: center;"></p><p align="center"><strong>Implications of Artificial Intelligence for</strong>&nbsp;<strong>Educators</strong></p><p align="center"><strong><em>Empowering Educators to Leverage AI&nbsp;both in the Teach and Learning Process</em></strong></p><p align="center"><strong>Date:</strong><br>January 16-17, 2026</p><p align="center"><strong>Time:</strong><br>9AM-5PM Mountain</p><p align="center"><strong>Location:&nbsp;(IN-PERSON)</strong><br>Central Wyoming College<br>Robert A. Peck Art Center</p><p align="center">2660 Peck Avenue<br>Riverton, WY 82501</p><p style="text-align: center;"><div><a href="https://ncytecenter.wildapricot.org/event-6518593 " target="_blank" rel="noopener"><strong>REGISTER</strong></a></div></p><p>This workshop is designed for faculty, staff, counselors, and advisors who want to integrate AI into teaching and curriculum development. It’s ideal for those interested in enhancing student engagement, streamlining tasks, and preparing students for an AI-driven future.</p><p>The session also prepares attendees for the Microsoft Azure AI Fundamentals Certification exam (exam cost not included).</p>
X-ALT-DESC;FMTTYPE=text/html:<p style="text-align: center;"></p><p align="center"><strong>Implications of Artificial Intelligence for</strong>&nbsp;<strong>Educators</strong></p><p align="center"><strong><em>Empowering Educators to Leverage AI&nbsp;both in the Teach and Learning Process</em></strong></p><p align="center"><strong>Date:</strong><br>January 16-17, 2026</p><p align="center"><strong>Time:</strong><br>9AM-5PM Mountain</p><p align="center"><strong>Location:&nbsp;(IN-PERSON)</strong><br>Central Wyoming College<br>Robert A. Peck Art Center</p><p align="center">2660 Peck Avenue<br>Riverton, WY 82501</p><p style="text-align: center;"><div><a href="https://ncytecenter.wildapricot.org/event-6518593 " target="_blank" rel="noopener"><strong>REGISTER</strong></a></div></p><p>This workshop is designed for faculty, staff, counselors, and advisors who want to integrate AI into teaching and curriculum development. It’s ideal for those interested in enhancing student engagement, streamlining tasks, and preparing students for an AI-driven future.</p><p>The session also prepares attendees for the Microsoft Azure AI Fundamentals Certification exam (exam cost not included).</p>
LOCATION:Central Wyoming College\, 2660 Peck Avenue Riverton\, Wyoming 82501
CLASS:PUBLIC
END:VEVENT
END:VCALENDAR
