BEGIN:VCALENDAR
VERSION:2.0
PRODID:NCyTE Center Calendar Creator
METHOD:PUBLISH
BEGIN:VEVENT
DTSTAMP:20260113T105622
DTSTART:20260311T080000
DTEND:20260313T170000
SUMMARY:Women in Cybersecurity Conference
DESCRIPTION:<p style="text-align: center;"><strong>Women in Cybersecurity Conference</strong></p><p style="text-align: center;">March 11 - 13, 2026</p><p style="text-align: center;">Oxen Hill, Maryland 20745</p><p style="text-align: center;"><strong>&nbsp;<a href="https://www.wicys.org/events/wicys-2026/" target="_blank" rel="noopener">REGISTER</a></strong></p><p>The WiCyS conference is the premier event to RECRUIT, RETAIN and ADVANCE women in cybersecurity— all while creating a community of engagement, encouragement and support at a technical conference for women and allies. WiCyS brings together women and allies in cybersecurity from academia, research, government, and industry.</p><p>Conference components include keynote speakers, technical presentations, workshops, panel discussions, lightning talks, networking socials, résumé reviews, mock interviews, professional headshots, a career fair for hiring professionals and students, a capture-the-flag competition, an escape room, a breakfast honoring military personnel, and more.</p>
X-ALT-DESC;FMTTYPE=text/html:<p style="text-align: center;"><strong>Women in Cybersecurity Conference</strong></p><p style="text-align: center;">March 11 - 13, 2026</p><p style="text-align: center;">Oxen Hill, Maryland 20745</p><p style="text-align: center;"><strong>&nbsp;<a href="https://www.wicys.org/events/wicys-2026/" target="_blank" rel="noopener">REGISTER</a></strong></p><p>The WiCyS conference is the premier event to RECRUIT, RETAIN and ADVANCE women in cybersecurity— all while creating a community of engagement, encouragement and support at a technical conference for women and allies. WiCyS brings together women and allies in cybersecurity from academia, research, government, and industry.</p><p>Conference components include keynote speakers, technical presentations, workshops, panel discussions, lightning talks, networking socials, résumé reviews, mock interviews, professional headshots, a career fair for hiring professionals and students, a capture-the-flag competition, an escape room, a breakfast honoring military personnel, and more.</p>
LOCATION:Gaylord National Harbor Resort and Convention Center\, 201 Waterfront St Oxon Hill\, Maryland 20745
CLASS:PUBLIC
END:VEVENT
END:VCALENDAR
