BEGIN:VCALENDAR
VERSION:2.0
PRODID:NCyTE Center Calendar Creator
METHOD:PUBLISH
BEGIN:VEVENT
DTSTAMP:20260113T104954
DTSTART:20260303T080000
DTEND:20260304T170000
SUMMARY:NCyTE NVC
DESCRIPTION:<p style="text-align: center;">NCyTE National Visiting Committee Meeting</p><p style="text-align: center;">March 3-4, 2026</p><p style="text-align: center;">8:00 am - 5:00 pm PST</p><p style="text-align: center;">&nbsp;</p><p style="text-align: center;">The NCyTE leadership team, NSF Program Officer, and the National Visiting Committee will be meeting for its annual review of grant progress.&nbsp;</p><p style="text-align: center;">The NVC’s serve two major roles in the ATE program. They advise the center and assess the center’s progress.&nbsp;</p>
X-ALT-DESC;FMTTYPE=text/html:<p style="text-align: center;">NCyTE National Visiting Committee Meeting</p><p style="text-align: center;">March 3-4, 2026</p><p style="text-align: center;">8:00 am - 5:00 pm PST</p><p style="text-align: center;">&nbsp;</p><p style="text-align: center;">The NCyTE leadership team, NSF Program Officer, and the National Visiting Committee will be meeting for its annual review of grant progress.&nbsp;</p><p style="text-align: center;">The NVC’s serve two major roles in the ATE program. They advise the center and assess the center’s progress.&nbsp;</p>
LOCATION:Willows Lodge\, 14580 NE 145th St Woodinville\, Washington 98072
CLASS:PUBLIC
END:VEVENT
END:VCALENDAR
