BEGIN:VCALENDAR
VERSION:2.0
PRODID:NCyTE Center Calendar Creator
METHOD:PUBLISH
BEGIN:VEVENT
DTSTAMP:20221026T143940
DTSTART:20230605T000000
DTEND:20230607T235900
SUMMARY:NICE 2023
DESCRIPTION:<h2 align="center"><strong>NICE 2023</strong><br>June 5 - 7, 2023 in Seattle, WA</h2><p align="center">&nbsp;</p><p>The<a href="https://niceconference.org/" target="_blank">&nbsp;NICE Conference</a>&nbsp;is the annual convening of community members and thought leaders from education, government, industry, and non-profits to explore ways of developing a skilled cybersecurity workforce ready to meet the challenges of the future. This event provides an opportunity to share best practices from around the world and across sectors in order to build the workforce we need to confront cybersecurity risks today and in years to come.</p><p>This event is hosted by Florida International University and New America, supported by the National Initiative for Cybersecurity Education (NICE), a program of the National Institute of Standards and Technology in the U.S. Department of Commerce.</p>
X-ALT-DESC;FMTTYPE=text/html:<h2 align="center"><strong>NICE 2023</strong><br>June 5 - 7, 2023 in Seattle, WA</h2><p align="center">&nbsp;</p><p>The<a href="https://niceconference.org/" target="_blank">&nbsp;NICE Conference</a>&nbsp;is the annual convening of community members and thought leaders from education, government, industry, and non-profits to explore ways of developing a skilled cybersecurity workforce ready to meet the challenges of the future. This event provides an opportunity to share best practices from around the world and across sectors in order to build the workforce we need to confront cybersecurity risks today and in years to come.</p><p>This event is hosted by Florida International University and New America, supported by the National Initiative for Cybersecurity Education (NICE), a program of the National Institute of Standards and Technology in the U.S. Department of Commerce.</p>
LOCATION:Westin Seattle\, 1900 5th Avenue Seattle\, Washington 98101
CLASS:PUBLIC
END:VEVENT
END:VCALENDAR
