BEGIN:VCALENDAR
VERSION:2.0
PRODID:NCyTE Center Calendar Creator
METHOD:PUBLISH
BEGIN:VEVENT
DTSTAMP:20221026T162314
DTSTART:20221205T000000
DTEND:20221206T235900
SUMMARY:NICE K12 Conference
DESCRIPTION:<h2 style="text-align: center;">&nbsp;NICE K12 Cybersecurity Education Conference</h2><h3 style="text-align: center;">Marriott St. Louis Grand, St. Louis, Missouri</h3><h3 style="text-align: center;">December 5- 6, 2022</h3><h3 style="text-align: center;">7:00 am - 6:00 pm CST</h3><p style="text-align: center;">The Annual NICE K12 Cybersecurity Education Conference, supported by the National Initiative for Cybersecurity Education (NICE), and hosted by iKeepSafe, features timely and thought-provoking presentations that highlight effective collaborations, bold experiments and innovations, and other potentially game-changing methods in support of growing the cybersecurity workforce. Attendees include training and educational leaders from academia, business, and government for two days of focused keynotes, panels, concurrent sessions, and discussions in support of the <a href="https://www.nist.gov/itl/applied-cybersecurity/nice/about/strategic-plan">NICE Strategic Plan</a>.</p><p style="text-align: center;">&nbsp;Pre conference Workshops available on 12/3 &amp; 12/4.&nbsp;</p><p style="text-align: center;">Dr. Deanne Cranford-Wesley will be moderating a panel titled,&nbsp;Stimulating Innovative Cybersecurity Educational Approaches&nbsp;on behalf of NCyTE at the conference. The panel discussion will be centered around the challenges, successes and impact of integrating cybersecurity content in K12 courses.&nbsp; Be sure to join the panel discussion at the conference or find us at the exhibitor booths!&nbsp;</p><p style="text-align: center;"><strong><a href="https://www.k12cybersecurityconference.org/register" target="_blank">REGISTER TO ATTEND</a></strong></p><p>&nbsp;</p>
X-ALT-DESC;FMTTYPE=text/html:<h2 style="text-align: center;">&nbsp;NICE K12 Cybersecurity Education Conference</h2><h3 style="text-align: center;">Marriott St. Louis Grand, St. Louis, Missouri</h3><h3 style="text-align: center;">December 5- 6, 2022</h3><h3 style="text-align: center;">7:00 am - 6:00 pm CST</h3><p style="text-align: center;">The Annual NICE K12 Cybersecurity Education Conference, supported by the National Initiative for Cybersecurity Education (NICE), and hosted by iKeepSafe, features timely and thought-provoking presentations that highlight effective collaborations, bold experiments and innovations, and other potentially game-changing methods in support of growing the cybersecurity workforce. Attendees include training and educational leaders from academia, business, and government for two days of focused keynotes, panels, concurrent sessions, and discussions in support of the <a href="https://www.nist.gov/itl/applied-cybersecurity/nice/about/strategic-plan">NICE Strategic Plan</a>.</p><p style="text-align: center;">&nbsp;Pre conference Workshops available on 12/3 &amp; 12/4.&nbsp;</p><p style="text-align: center;">Dr. Deanne Cranford-Wesley will be moderating a panel titled,&nbsp;Stimulating Innovative Cybersecurity Educational Approaches&nbsp;on behalf of NCyTE at the conference. The panel discussion will be centered around the challenges, successes and impact of integrating cybersecurity content in K12 courses.&nbsp; Be sure to join the panel discussion at the conference or find us at the exhibitor booths!&nbsp;</p><p style="text-align: center;"><strong><a href="https://www.k12cybersecurityconference.org/register" target="_blank">REGISTER TO ATTEND</a></strong></p><p>&nbsp;</p>
LOCATION:Marriot St. Louis Grand\, 800 Washington Avenue St. Louis\, Missouri 63101
CLASS:PUBLIC
END:VEVENT
END:VCALENDAR
