BEGIN:VCALENDAR
VERSION:2.0
PRODID:NCyTE Center Calendar Creator
METHOD:PUBLISH
BEGIN:VEVENT
DTSTAMP:20251210T160710
DTSTART:20260907T000000
DTEND:20260907T235900
SUMMARY:College Campus Closed - Labor Day
DESCRIPTION:<p style="text-align: center;">NCyTE Center at Whatcom Community College will be closed for the federal holiday –Labor Day</p>
X-ALT-DESC;FMTTYPE=text/html:<p style="text-align: center;">NCyTE Center at Whatcom Community College will be closed for the federal holiday –Labor Day</p>
LOCATION:
CLASS:PUBLIC
END:VEVENT
END:VCALENDAR
