BEGIN:VCALENDAR
VERSION:2.0
PRODID:NCyTE Center Calendar Creator
METHOD:PUBLISH
BEGIN:VEVENT
DTSTAMP:20260408T113355
DTSTART:20260717T090000
DTEND:20260717T100000
SUMMARY:NCyTE Monthly Meeting
DESCRIPTION:<p style="text-align: center;"></p><p align="center">Monthly Meeting - Virtual</p><p align="center">July 17, 2026</p><p align="center">9:00 AM - 10:00 AM PST</p><p align="center">&nbsp;</p><p style="text-align: center;">*Stay tuned for more details</p>
X-ALT-DESC;FMTTYPE=text/html:<p style="text-align: center;"></p><p align="center">Monthly Meeting - Virtual</p><p align="center">July 17, 2026</p><p align="center">9:00 AM - 10:00 AM PST</p><p align="center">&nbsp;</p><p style="text-align: center;">*Stay tuned for more details</p>
LOCATION:
CLASS:PUBLIC
END:VEVENT
END:VCALENDAR
