BEGIN:VCALENDAR
VERSION:2.0
PRODID:NCyTE Center Calendar Creator
METHOD:PUBLISH
BEGIN:VEVENT
DTSTAMP:20221025T115222
DTSTART:20221129T080000
DTEND:20221130T160000
SUMMARY:Cybersecurity Maturity Model Certification (CMMC) 2.0 workshop
DESCRIPTION:<h1 align="center"><span style="color: rgb(0, 0, 0);">&nbsp;</span></h1><h1 align="center"><span style="color: rgb(0, 0, 0);">CMMC 2.0 Workshop</span></h1><p style="text-align: center;">11/29/22&nbsp; - 11/30/22</p><p style="text-align: center;">8:00 am - 4:00 pm PST</p><p style="text-align: center;">Please Note: Each workshop is limited to 25 attendees so register early!</p><br><br><p>Register now for a free, two-day CMMC (Cybersecurity Maturity Model Certification) 2.0 workshop! Spaces are limited.</p><p>NCyTE is offering a free workshop that will cover the CMMC 2.0 and the new Department of Defense (DoD) requirements which include: moving from a five-level compliance model to a three-level model, shifting most auditing requirements to the DoD, and revising the program to mirror NIST 800-171 more closely.</p><p>Who should attend?</p><ul>    <li>Cybersecurity faculty</li>    <li>Small business IT or cybersecurity personnel&nbsp;<br>    <br>    </li></ul><p>The workshop will be facilitated by&nbsp;Dr. John Sands&nbsp;who has over 30 years of&nbsp;experience in education and workforce research in data communications, manufacturing technologies, information technology, information security management and cybersecurity. He has led previous CMMC workshops and is well versed in CMMC 2.0.</p><p>All attendees will receive an Instructor Guidebook, Student Guidebook, training resources, and a Canvas course package. </p><p>The workshop is limited to 25 attendees and spots are filling up quickly.</p><div style="text-align: center;"><strong><a href="	https://ncytecenter.wildapricot.org/event-4726182 " target="_blank">REGISTER TO ATTEND</a></strong></div><ul></ul>
X-ALT-DESC;FMTTYPE=text/html:<h1 align="center"><span style="color: rgb(0, 0, 0);">&nbsp;</span></h1><h1 align="center"><span style="color: rgb(0, 0, 0);">CMMC 2.0 Workshop</span></h1><p style="text-align: center;">11/29/22&nbsp; - 11/30/22</p><p style="text-align: center;">8:00 am - 4:00 pm PST</p><p style="text-align: center;">Please Note: Each workshop is limited to 25 attendees so register early!</p><br><br><p>Register now for a free, two-day CMMC (Cybersecurity Maturity Model Certification) 2.0 workshop! Spaces are limited.</p><p>NCyTE is offering a free workshop that will cover the CMMC 2.0 and the new Department of Defense (DoD) requirements which include: moving from a five-level compliance model to a three-level model, shifting most auditing requirements to the DoD, and revising the program to mirror NIST 800-171 more closely.</p><p>Who should attend?</p><ul>    <li>Cybersecurity faculty</li>    <li>Small business IT or cybersecurity personnel&nbsp;<br>    <br>    </li></ul><p>The workshop will be facilitated by&nbsp;Dr. John Sands&nbsp;who has over 30 years of&nbsp;experience in education and workforce research in data communications, manufacturing technologies, information technology, information security management and cybersecurity. He has led previous CMMC workshops and is well versed in CMMC 2.0.</p><p>All attendees will receive an Instructor Guidebook, Student Guidebook, training resources, and a Canvas course package. </p><p>The workshop is limited to 25 attendees and spots are filling up quickly.</p><div style="text-align: center;"><strong><a href="	https://ncytecenter.wildapricot.org/event-4726182 " target="_blank">REGISTER TO ATTEND</a></strong></div><ul></ul>
LOCATION:
CLASS:PUBLIC
END:VEVENT
END:VCALENDAR
