BEGIN:VCALENDAR
VERSION:2.0
PRODID:NCyTE Center Calendar Creator
METHOD:PUBLISH
BEGIN:VEVENT
DTSTAMP:20260206T100229
DTSTART:20260320T080000
DTEND:20260320T100000
SUMMARY:NCyTE Monthly Meeting
DESCRIPTION:<p style="text-align: center;"></p><h1 align="center">Teaching AI Effectively:</h1><h1 align="center">Free Resources from the National Applied AI Consortium</h1><p align="center"> </p><p align="center">March 20, 2026</p><p align="center">9:00 AM - 10:00 AM PST</p><p align="center"><a href="https://ncytecenter.wildapricot.org/event-6519463 " target="_blank" rel="noopener">REGISTER</a></p><p>The National Applied AI Consortium (NAAIC) is reshaping AI workforce development by supporting community colleges in developing&nbsp;AI courses and programs. Through partnerships with leading technology companies and higher-education institutions, NAAIC equips faculty with the resources, professional development, and industry connections needed to teach AI effectively. Their work, sponsored by the National Science Foundation, helps colleges build relevant, accessible AI programs that prepare students for high-demand jobs.</p><p>Join us to learn how NAAIC’s curriculum resources, training, and mentorship support can help you strengthen or launch AI offerings at your institution.</p><p>Speaker Info:</p><p>Antonio&nbsp;Delgado is passionate about creating and providing educational opportunities that change lives. As the Vice President of Innovation and Technology Partnerships at Miami Dade College, he has focused on realizing the institution’s ethos as an equalizer of opportunity for economic mobility. At MDC, Antonio leads initiatives like the National Applied AI Consortium and Miami Tech Works to position the college as a national and regional leader in tech workforce development in emerging technologies. He also oversees the implementation of AI solutions in the college's operations and academic programs.</p><p>Antonio has accumulated over 20 years of experience in management and technology consulting across the United States, Europe, Central America, and the Caribbean, including country manager at one of Latin America’s leading technology companies. Antonio currently serves as a Fellow for New America’s Future of Work and Innovation Economy initiative.</p>
X-ALT-DESC;FMTTYPE=text/html:<p style="text-align: center;"></p><h1 align="center">Teaching AI Effectively:</h1><h1 align="center">Free Resources from the National Applied AI Consortium</h1><p align="center"> </p><p align="center">March 20, 2026</p><p align="center">9:00 AM - 10:00 AM PST</p><p align="center"><a href="https://ncytecenter.wildapricot.org/event-6519463 " target="_blank" rel="noopener">REGISTER</a></p><p>The National Applied AI Consortium (NAAIC) is reshaping AI workforce development by supporting community colleges in developing&nbsp;AI courses and programs. Through partnerships with leading technology companies and higher-education institutions, NAAIC equips faculty with the resources, professional development, and industry connections needed to teach AI effectively. Their work, sponsored by the National Science Foundation, helps colleges build relevant, accessible AI programs that prepare students for high-demand jobs.</p><p>Join us to learn how NAAIC’s curriculum resources, training, and mentorship support can help you strengthen or launch AI offerings at your institution.</p><p>Speaker Info:</p><p>Antonio&nbsp;Delgado is passionate about creating and providing educational opportunities that change lives. As the Vice President of Innovation and Technology Partnerships at Miami Dade College, he has focused on realizing the institution’s ethos as an equalizer of opportunity for economic mobility. At MDC, Antonio leads initiatives like the National Applied AI Consortium and Miami Tech Works to position the college as a national and regional leader in tech workforce development in emerging technologies. He also oversees the implementation of AI solutions in the college's operations and academic programs.</p><p>Antonio has accumulated over 20 years of experience in management and technology consulting across the United States, Europe, Central America, and the Caribbean, including country manager at one of Latin America’s leading technology companies. Antonio currently serves as a Fellow for New America’s Future of Work and Innovation Economy initiative.</p>
LOCATION:Virtual\, 
CLASS:PUBLIC
END:VEVENT
END:VCALENDAR
