BEGIN:VCALENDAR
VERSION:2.0
PRODID:NCyTE Center Calendar Creator
METHOD:PUBLISH
BEGIN:VEVENT
DTSTAMP:20260206T094643
DTSTART:20260220T090000
DTEND:20260220T100000
SUMMARY:NCyTE Monthly Meeting
DESCRIPTION:<p style="text-align: center;"></p><p align="center">Monthly Meeting - Virtual</p><p align="center">February 20, 2026</p><p align="center">9:00 AM - 10:00 AM PST</p><p align="center">&nbsp;</p><p align="center"><span style="color: rgb(0, 48, 92); font-family: inherit; font-size: 32px; font-weight: 600; text-align: left;">Leveraging AI in the Teaching and Learning Process</span></p><p align="center"><span style="color: rgb(0, 48, 92); font-family: inherit; font-size: 32px; font-weight: 600; text-align: left;"><a href="	https://ncytecenter.wildapricot.org/event-6496538 " target="_blank" rel="noopener">Register</a></span></p><p>This session explores transformative applications of artificial intelligence in educational settings, examining how AI tools can enhance both instructional delivery and student learning outcomes. Participants will discover practical strategies for integrating AI-powered platforms to personalize learning experiences, automate assessment processes, and provide real-time feedback. Session leaders will discuss practical examples of using AI to enhance student learning and create interactive and engaging instructional content.</p><p><strong>Presenter</strong></p><p>Dr. John Sands brings over 36 years of extensive experience in information technology management and cyber defense. He earned his Ph.D. from Colorado State University and has dedicated the past three decades to advancing technology education as a distinguished member of Moraine Valley Community College. Currently serving as the department chair of the Computer Integrated Technologies department, Dr. Sands continues to innovate and lead in the field of cybersecurity and IT education.</p><p style="text-align: center;">&nbsp;</p>
X-ALT-DESC;FMTTYPE=text/html:<p style="text-align: center;"></p><p align="center">Monthly Meeting - Virtual</p><p align="center">February 20, 2026</p><p align="center">9:00 AM - 10:00 AM PST</p><p align="center">&nbsp;</p><p align="center"><span style="color: rgb(0, 48, 92); font-family: inherit; font-size: 32px; font-weight: 600; text-align: left;">Leveraging AI in the Teaching and Learning Process</span></p><p align="center"><span style="color: rgb(0, 48, 92); font-family: inherit; font-size: 32px; font-weight: 600; text-align: left;"><a href="	https://ncytecenter.wildapricot.org/event-6496538 " target="_blank" rel="noopener">Register</a></span></p><p>This session explores transformative applications of artificial intelligence in educational settings, examining how AI tools can enhance both instructional delivery and student learning outcomes. Participants will discover practical strategies for integrating AI-powered platforms to personalize learning experiences, automate assessment processes, and provide real-time feedback. Session leaders will discuss practical examples of using AI to enhance student learning and create interactive and engaging instructional content.</p><p><strong>Presenter</strong></p><p>Dr. John Sands brings over 36 years of extensive experience in information technology management and cyber defense. He earned his Ph.D. from Colorado State University and has dedicated the past three decades to advancing technology education as a distinguished member of Moraine Valley Community College. Currently serving as the department chair of the Computer Integrated Technologies department, Dr. Sands continues to innovate and lead in the field of cybersecurity and IT education.</p><p style="text-align: center;">&nbsp;</p>
LOCATION:Virtual\, 
CLASS:PUBLIC
END:VEVENT
END:VCALENDAR
