BEGIN:VCALENDAR
VERSION:2.0
PRODID:NCyTE Center Calendar Creator
METHOD:PUBLISH
BEGIN:VEVENT
DTSTAMP:20260107T142102
DTSTART:20260116T090000
DTEND:20260116T100000
SUMMARY:NCyTE Monthly Meeting
DESCRIPTION:<p style="text-align: center;"></p><p align="center">Monthly Meeting - Virtual</p><p align="center">January 16, 2026</p><p align="center">9:00 AM - 10:00 AM PST</p><h2 style="text-align: center;"><a href="	https://ncytecenter.wildapricot.org/event-6471576 " target="_blank" rel="noopener">REGISTER</a></h2><h1 align="center">Evaluating CAE Cybersecurity Career Outcomes</h1><p>Join us at NCyTE’s January Monthly Meeting where Dr. Tobi West will share her research into how well Centers of Academic Excellence in Cybersecurity (CAE-C) programs prepare students for cybersecurity careers.&nbsp;</p><p>The session will highlight findings from a ten-month study involving 281 students from 36 colleges and universities across the U.S. The research examined the types of cybersecurity jobs CAE alumni secured after graduation and assessed how closely those positions align with the 52 cybersecurity work roles defined in the recently updated NICE Workforce Framework for Cybersecurity (NIST).&nbsp;</p><p>We hope you’ll join us for this informative session.</p><p>&nbsp;</p><p data-start="224" data-end="356"><strong>Presenter:&nbsp;</strong>Dr. Tobi West</p><p align="center" style="text-align: left;">Professor Tobi West is a tenured full-time faculty member of Cybersecurity and Computer Information Systems at Coastline College in Southern California. She is the director of Coastline’s National Center of Academic Excellence (CAE) in Cyber Defense education and serves on multiple national committees supporting cybersecurity workforce development. Ms. West assisted with the startup of the California Cybersecurity Apprenticeship Program at Coastline College, which began in 2017.</p><p>&nbsp;</p><div><font style="color: rgb(51, 51, 51); font-family: Ubuntu, Arial, sans-serif;"><span style="background-color: rgb(255, 255, 255);"><font color="#555555" face="Arial, Helvetica, sans-serif"><br></font></span></font></div>
X-ALT-DESC;FMTTYPE=text/html:<p style="text-align: center;"></p><p align="center">Monthly Meeting - Virtual</p><p align="center">January 16, 2026</p><p align="center">9:00 AM - 10:00 AM PST</p><h2 style="text-align: center;"><a href="	https://ncytecenter.wildapricot.org/event-6471576 " target="_blank" rel="noopener">REGISTER</a></h2><h1 align="center">Evaluating CAE Cybersecurity Career Outcomes</h1><p>Join us at NCyTE’s January Monthly Meeting where Dr. Tobi West will share her research into how well Centers of Academic Excellence in Cybersecurity (CAE-C) programs prepare students for cybersecurity careers.&nbsp;</p><p>The session will highlight findings from a ten-month study involving 281 students from 36 colleges and universities across the U.S. The research examined the types of cybersecurity jobs CAE alumni secured after graduation and assessed how closely those positions align with the 52 cybersecurity work roles defined in the recently updated NICE Workforce Framework for Cybersecurity (NIST).&nbsp;</p><p>We hope you’ll join us for this informative session.</p><p>&nbsp;</p><p data-start="224" data-end="356"><strong>Presenter:&nbsp;</strong>Dr. Tobi West</p><p align="center" style="text-align: left;">Professor Tobi West is a tenured full-time faculty member of Cybersecurity and Computer Information Systems at Coastline College in Southern California. She is the director of Coastline’s National Center of Academic Excellence (CAE) in Cyber Defense education and serves on multiple national committees supporting cybersecurity workforce development. Ms. West assisted with the startup of the California Cybersecurity Apprenticeship Program at Coastline College, which began in 2017.</p><p>&nbsp;</p><div><font style="color: rgb(51, 51, 51); font-family: Ubuntu, Arial, sans-serif;"><span style="background-color: rgb(255, 255, 255);"><font color="#555555" face="Arial, Helvetica, sans-serif"><br></font></span></font></div>
LOCATION:Virtual\, 
CLASS:PUBLIC
END:VEVENT
END:VCALENDAR
