BEGIN:VCALENDAR
VERSION:2.0
PRODID:NCyTE Center Calendar Creator
METHOD:PUBLISH
BEGIN:VEVENT
DTSTAMP:20251210T133223
DTSTART:20260119T000000
DTEND:20260119T235900
SUMMARY:College Closed – MLK Jr. Day
DESCRIPTION:<p style="text-align: center;">NCyTE Center at Whatcom Community College will be closed for the federal holiday -Martin Luther King Jr. Day</p>
X-ALT-DESC;FMTTYPE=text/html:<p style="text-align: center;">NCyTE Center at Whatcom Community College will be closed for the federal holiday -Martin Luther King Jr. Day</p>
LOCATION:
CLASS:PUBLIC
END:VEVENT
END:VCALENDAR
