BEGIN:VCALENDAR
VERSION:2.0
PRODID:NCyTE Center Calendar Creator
METHOD:PUBLISH
BEGIN:VEVENT
DTSTAMP:20251029T135221
DTSTART:20251106T090000
DTEND:20251107T160000
SUMMARY:Implications of Artificial Intelligence for Educators
DESCRIPTION:<p align="center"><strong>&nbsp;</strong></p><h2 style="text-align: center;">Implications of Artificial Intelligence for Educators&nbsp;</h2><p align="center"><strong>Date: November 6 - 7, 2025</strong></p><p align="center"><strong>Time:</strong><br>9AM-4PM Eastern</p><p align="center"><strong>Location:&nbsp;<br></strong>St. Petersburg College - Clearwater Campus<br>2465 Dew Street<br>Clearwater, FL 33765<br>ES Building - Room 104</p><div></div><p>&nbsp;</p><p align="center">&nbsp;</p><p>This workshop empowers university, community college, and high school faculty, staff, counselors, and academic advisors with the knowledge and tools to effectively integrate AI into their teaching practices and curriculum development. Participants will explore practical applications of AI, including lesson planning, designing engaging and interactive content, creating dynamic assessments, and customizing individualized student learning experiences. Additionally, the workshop will highlight how to enable students to use AI in ethical and productive ways across various disciplines.</p><p>Through hands-on activities, collaborative projects, and real-world examples, faculty will gain a deeper understanding of AI’s transformative role in education. They will also explore new forms of student engagement, ensuring responsible AI use in both teaching and learning environments. This workshop prepares educators to harness AI to enhance classroom instruction, streamline administrative tasks, and equip students with the skills needed to navigate an AI-driven future.</p><h3 style="text-align: center; color: red">REGISTRATION IS THROUGH ST. PETERSBURG COLLEGE</h3>
X-ALT-DESC;FMTTYPE=text/html:<p align="center"><strong>&nbsp;</strong></p><h2 style="text-align: center;">Implications of Artificial Intelligence for Educators&nbsp;</h2><p align="center"><strong>Date: November 6 - 7, 2025</strong></p><p align="center"><strong>Time:</strong><br>9AM-4PM Eastern</p><p align="center"><strong>Location:&nbsp;<br></strong>St. Petersburg College - Clearwater Campus<br>2465 Dew Street<br>Clearwater, FL 33765<br>ES Building - Room 104</p><div></div><p>&nbsp;</p><p align="center">&nbsp;</p><p>This workshop empowers university, community college, and high school faculty, staff, counselors, and academic advisors with the knowledge and tools to effectively integrate AI into their teaching practices and curriculum development. Participants will explore practical applications of AI, including lesson planning, designing engaging and interactive content, creating dynamic assessments, and customizing individualized student learning experiences. Additionally, the workshop will highlight how to enable students to use AI in ethical and productive ways across various disciplines.</p><p>Through hands-on activities, collaborative projects, and real-world examples, faculty will gain a deeper understanding of AI’s transformative role in education. They will also explore new forms of student engagement, ensuring responsible AI use in both teaching and learning environments. This workshop prepares educators to harness AI to enhance classroom instruction, streamline administrative tasks, and equip students with the skills needed to navigate an AI-driven future.</p><h3 style="text-align: center; color: red">REGISTRATION IS THROUGH ST. PETERSBURG COLLEGE</h3>
LOCATION:St. Petersburg College - Clearwater Campus\, 2465 Drew Street Clearwater\, Florida 33765
CLASS:PUBLIC
END:VEVENT
END:VCALENDAR
