BEGIN:VCALENDAR
VERSION:2.0
PRODID:NCyTE Center Calendar Creator
METHOD:PUBLISH
BEGIN:VEVENT
DTSTAMP:20250918T110746
DTSTART:20250930T170000
DTEND:20250930T190000
SUMMARY:CISA OT Assest Inventory Guidance Webinar
DESCRIPTION:<p>&nbsp;</p><p>CISA is hosting a <u><a data-auth="NotApplicable" rel="noopener noreferrer" target="_blank" href="https://www.cisa.gov/news-events/events/operational-technology-asset-inventory-guidance-webinar?utm_source=OTAssetInventoryWebinarEvent&amp;utm_medium=WebinaryGovdelivery" data-linkindex="2" title="https://www.cisa.gov/news-events/events/operational-technology-asset-inventory-guidance-webinar?utm_source=OTAssetInventoryWebinarEvent&amp;utm_medium=WebinaryGovdelivery">live webinar</a></u>&nbsp;at 2 p.m. (ET) on Sept. 30, to introduce our recently released <u><a data-auth="NotApplicable" rel="noopener noreferrer" target="_blank" href="https://www.cisa.gov/resources-tools/resources/foundations-ot-cybersecurity-asset-inventory-guidance-owners-and-operators?utm_source=OTAssetInventoryWebinar&amp;utm_medium=WebinarGovDelivery" data-linkindex="3" title="https://www.cisa.gov/resources-tools/resources/foundations-ot-cybersecurity-asset-inventory-guidance-owners-and-operators?utm_source=OTAssetInventoryWebinar&amp;utm_medium=WebinarGovDelivery">Foundations for Operational Technology (OT) Cybersecurity: Asset Inventory Guidance for Owners and Operators</a></u>. We developed this joint cybersecurity guidance in collaboration with three U.S. federal agencies, five international partners, and more than a dozen private sector stakeholders.&nbsp;&nbsp;</p><p>During this webinar session, we will explore how robust asset inventories can help OT operators prioritize vulnerabilities, detect unauthorized devices, improve network segmentation, and enhance incident response capabilities. We will also walk through the steps to build an OT asset inventory and taxonomy—highlighting the specific benefits to operators, especially within small- and medium-sized entities.&nbsp;</p><p>This session will:&nbsp;</p><ul type="disc">    <li><b>Present actionable strategies</b>&nbsp;for developing and maintaining asset inventories and taxonomies in OT environments.&nbsp;</li>    <li><b>Emphasize the critical role of asset visibility</b>&nbsp;in strengthening operational resilience, prioritizing vulnerabilities, and managing cyber risk.&nbsp;</li>    <li><b>Encourage peer learning</b>&nbsp;by sharing real-world partner experiences and practical implementation insights.&nbsp;</li>    <li><b>Showcase the impact of public-private collaboration</b>&nbsp;in advancing cybersecurity across the OT/Industrial Control Systems community.&nbsp;</li></ul><p>The webinar is open to the public.&nbsp;Please visit the <u><a data-auth="NotApplicable" rel="noopener noreferrer" target="_blank" href="https://www.cisa.gov/news-events/events/operational-technology-asset-inventory-guidance-webinar?utm_source=OTAssetInventoryWebinarEvent&amp;utm_medium=WebinaryGovdelivery" data-linkindex="4" title="https://www.cisa.gov/news-events/events/operational-technology-asset-inventory-guidance-webinar?utm_source=OTAssetInventoryWebinarEvent&amp;utm_medium=WebinaryGovdelivery">event page</a></u>&nbsp;to attend. No registration required.</p><br>
X-ALT-DESC;FMTTYPE=text/html:<p>&nbsp;</p><p>CISA is hosting a <u><a data-auth="NotApplicable" rel="noopener noreferrer" target="_blank" href="https://www.cisa.gov/news-events/events/operational-technology-asset-inventory-guidance-webinar?utm_source=OTAssetInventoryWebinarEvent&amp;utm_medium=WebinaryGovdelivery" data-linkindex="2" title="https://www.cisa.gov/news-events/events/operational-technology-asset-inventory-guidance-webinar?utm_source=OTAssetInventoryWebinarEvent&amp;utm_medium=WebinaryGovdelivery">live webinar</a></u>&nbsp;at 2 p.m. (ET) on Sept. 30, to introduce our recently released <u><a data-auth="NotApplicable" rel="noopener noreferrer" target="_blank" href="https://www.cisa.gov/resources-tools/resources/foundations-ot-cybersecurity-asset-inventory-guidance-owners-and-operators?utm_source=OTAssetInventoryWebinar&amp;utm_medium=WebinarGovDelivery" data-linkindex="3" title="https://www.cisa.gov/resources-tools/resources/foundations-ot-cybersecurity-asset-inventory-guidance-owners-and-operators?utm_source=OTAssetInventoryWebinar&amp;utm_medium=WebinarGovDelivery">Foundations for Operational Technology (OT) Cybersecurity: Asset Inventory Guidance for Owners and Operators</a></u>. We developed this joint cybersecurity guidance in collaboration with three U.S. federal agencies, five international partners, and more than a dozen private sector stakeholders.&nbsp;&nbsp;</p><p>During this webinar session, we will explore how robust asset inventories can help OT operators prioritize vulnerabilities, detect unauthorized devices, improve network segmentation, and enhance incident response capabilities. We will also walk through the steps to build an OT asset inventory and taxonomy—highlighting the specific benefits to operators, especially within small- and medium-sized entities.&nbsp;</p><p>This session will:&nbsp;</p><ul type="disc">    <li><b>Present actionable strategies</b>&nbsp;for developing and maintaining asset inventories and taxonomies in OT environments.&nbsp;</li>    <li><b>Emphasize the critical role of asset visibility</b>&nbsp;in strengthening operational resilience, prioritizing vulnerabilities, and managing cyber risk.&nbsp;</li>    <li><b>Encourage peer learning</b>&nbsp;by sharing real-world partner experiences and practical implementation insights.&nbsp;</li>    <li><b>Showcase the impact of public-private collaboration</b>&nbsp;in advancing cybersecurity across the OT/Industrial Control Systems community.&nbsp;</li></ul><p>The webinar is open to the public.&nbsp;Please visit the <u><a data-auth="NotApplicable" rel="noopener noreferrer" target="_blank" href="https://www.cisa.gov/news-events/events/operational-technology-asset-inventory-guidance-webinar?utm_source=OTAssetInventoryWebinarEvent&amp;utm_medium=WebinaryGovdelivery" data-linkindex="4" title="https://www.cisa.gov/news-events/events/operational-technology-asset-inventory-guidance-webinar?utm_source=OTAssetInventoryWebinarEvent&amp;utm_medium=WebinaryGovdelivery">event page</a></u>&nbsp;to attend. No registration required.</p><br>
LOCATION:
CLASS:PUBLIC
END:VEVENT
END:VCALENDAR
