BEGIN:VCALENDAR
VERSION:2.0
PRODID:NCyTE Center Calendar Creator
METHOD:PUBLISH
BEGIN:VEVENT
DTSTAMP:20250903T115505
DTSTART:20251015T080000
DTEND:20251016T170000
SUMMARY:USDA Cybersecurity Expo 2025
DESCRIPTION:<p>&nbsp;</p><p>&nbsp;</p><p>The 2025 USDA Cybersecurity Expo will provide its active participants with information and resources on today's vulnerabilities, incidents, security lifecycle, risks and mitigations. It will also identify ways to work together and build a solid security foundation program to meet future challenges and trends in cybersecurity.<br><br>The theme for the 2025 Expo is&nbsp;<strong>Cyber Resilience in&nbsp;a Digital World</strong>.&nbsp;Cybersecurity Expo will be where professionals across the industry gather to share&nbsp;practical strategies, proven solutions, and the latest insights to&nbsp;strengthen cybersecurity at every organization. Whether you're looking to&nbsp;deepen your expertise, connect with peers, or explore real-world approaches&nbsp;to today's cybersecurity challenges, this year's Cybersecurity Expo is&nbsp;designed to equip you with knowledge you can put to work right away.</p><h2 style="text-align: center;">&nbsp;<a href="https://www.fbcinc.com/e/USDACyber/attendeereg.aspx" target="_blank" style="text-align: center;">REGISTER</a></h2><p>&nbsp;</p>
X-ALT-DESC;FMTTYPE=text/html:<p>&nbsp;</p><p>&nbsp;</p><p>The 2025 USDA Cybersecurity Expo will provide its active participants with information and resources on today's vulnerabilities, incidents, security lifecycle, risks and mitigations. It will also identify ways to work together and build a solid security foundation program to meet future challenges and trends in cybersecurity.<br><br>The theme for the 2025 Expo is&nbsp;<strong>Cyber Resilience in&nbsp;a Digital World</strong>.&nbsp;Cybersecurity Expo will be where professionals across the industry gather to share&nbsp;practical strategies, proven solutions, and the latest insights to&nbsp;strengthen cybersecurity at every organization. Whether you're looking to&nbsp;deepen your expertise, connect with peers, or explore real-world approaches&nbsp;to today's cybersecurity challenges, this year's Cybersecurity Expo is&nbsp;designed to equip you with knowledge you can put to work right away.</p><h2 style="text-align: center;">&nbsp;<a href="https://www.fbcinc.com/e/USDACyber/attendeereg.aspx" target="_blank" style="text-align: center;">REGISTER</a></h2><p>&nbsp;</p>
LOCATION:
CLASS:PUBLIC
END:VEVENT
END:VCALENDAR
