BEGIN:VCALENDAR
VERSION:2.0
PRODID:NCyTE Center Calendar Creator
METHOD:PUBLISH
BEGIN:VEVENT
DTSTAMP:20250811T125440
DTSTART:20250827T140000
DTEND:20250827T151500
SUMMARY:ATE PI- Evaluator Meet & Greet
DESCRIPTION:<p style="text-align: center;"></p><p style="text-align: center;">PI-Evaluator Meet &amp; Greet<br>August 27, 2025, 2 - 3:15 pm ET</p><p  style="text-align: left;">These virtual events offer ATE grant seekers and evaluators a welcoming, informative, and interactive space to connect and explore potential partnerships. Join us to find the right evaluator to support your ATE proposal and strengthen your evaluation plan.<br><br><strong><span style="color: rgb(255, 0, 0);"><em>Note</em></span></strong><span style="color: rgb(255, 0, 0);"><em>: Capacity for evaluator participation in this event is limited. An EvaluATE staff member will be in touch with evaluators to confirm attendance.</em></span></p><h2 style="text-align: center;"><a href="https://share.hsforms.com/1W8ZGhyAzROOsteb1r8JXPAcsb9c" target="_blank">&nbsp;<span style="color: rgb(0, 0, 0);">REGISTER&nbsp;</span></a></h2><p style="text-align: left;"><span style="color: rgb(255, 0, 0);"><em>&nbsp;</em></span></p>
X-ALT-DESC;FMTTYPE=text/html:<p style="text-align: center;"></p><p style="text-align: center;">PI-Evaluator Meet &amp; Greet<br>August 27, 2025, 2 - 3:15 pm ET</p><p  style="text-align: left;">These virtual events offer ATE grant seekers and evaluators a welcoming, informative, and interactive space to connect and explore potential partnerships. Join us to find the right evaluator to support your ATE proposal and strengthen your evaluation plan.<br><br><strong><span style="color: rgb(255, 0, 0);"><em>Note</em></span></strong><span style="color: rgb(255, 0, 0);"><em>: Capacity for evaluator participation in this event is limited. An EvaluATE staff member will be in touch with evaluators to confirm attendance.</em></span></p><h2 style="text-align: center;"><a href="https://share.hsforms.com/1W8ZGhyAzROOsteb1r8JXPAcsb9c" target="_blank">&nbsp;<span style="color: rgb(0, 0, 0);">REGISTER&nbsp;</span></a></h2><p style="text-align: left;"><span style="color: rgb(255, 0, 0);"><em>&nbsp;</em></span></p>
LOCATION:
CLASS:PUBLIC
END:VEVENT
END:VCALENDAR
