BEGIN:VCALENDAR
VERSION:2.0
PRODID:NCyTE Center Calendar Creator
METHOD:PUBLISH
BEGIN:VEVENT
DTSTAMP:20221025T115129
DTSTART:20221118T090000
DTEND:20221118T100000
SUMMARY:NCyTE Member Meeting
DESCRIPTION:<p style="text-align: center;"></p><p align="center"><strong>Centers of Academic Excellence (CAE) Overview</strong><br><em>an&nbsp;NCyTE Center Member Meeting</em></p><p align="center">Friday, November 18, 2022 at 9:00am (PST)</p><p>Learn about the Centers of Academic Excellence in Cybersecurity program during NCyTE's member meeting on 11/18.&nbsp;</p><p>Since 1999, the Centers of Academic Excellence (CAE) in Cybersecurity program has benefited thousands of students, faculty, employers and higher education institutions across the United States.</p><p>Join us as speakers from NCyTE and the CAE Candidates National Center (CCNC) lead a rich discussion on the CAE program's&nbsp;evolution, impact, quality of standards, types of programs, and the many opportunities provided to colleges and universities.</p><p><em>*This meeting is open to everyone— NCyTE membership is not required to attend. Please share this opportunity with your colleagues.*</em></p><p><em><hr></em></p><p><strong>Speakers:</strong>&nbsp;</p><p>Corrinne Sande,&nbsp;<em>NCyTE Principal Investigator and Director</em></p><p>Stephen Troupe,&nbsp;<em>CAE Candidates National Center (CCNC) Associate Director<br></em></p><p><hr></p><p><em><strong>Who should attend:</strong></em></p><ul>    <li><em>College and university administrators who are seeking CAE designation.</em></li>    <li><em>College and university faculty interested in learning about opportunities in the CAE community (i.e. workshops, professional development, advising, mentoring, peer reviewing, etc.)&nbsp;<br>    </em></li></ul><p style="text-align: center;"><strong><span style="color: rgb(255, 0, 0);"><a href="	https://ncytecenter.wildapricot.org/event-4645973 " target="_blank">&nbsp;REGISTER HERE</a></span></strong></p><p>&nbsp;<em>NCyTE is funded by the National Science Foundation grant #2054724.</em></p>
X-ALT-DESC;FMTTYPE=text/html:<p style="text-align: center;"></p><p align="center"><strong>Centers of Academic Excellence (CAE) Overview</strong><br><em>an&nbsp;NCyTE Center Member Meeting</em></p><p align="center">Friday, November 18, 2022 at 9:00am (PST)</p><p>Learn about the Centers of Academic Excellence in Cybersecurity program during NCyTE's member meeting on 11/18.&nbsp;</p><p>Since 1999, the Centers of Academic Excellence (CAE) in Cybersecurity program has benefited thousands of students, faculty, employers and higher education institutions across the United States.</p><p>Join us as speakers from NCyTE and the CAE Candidates National Center (CCNC) lead a rich discussion on the CAE program's&nbsp;evolution, impact, quality of standards, types of programs, and the many opportunities provided to colleges and universities.</p><p><em>*This meeting is open to everyone— NCyTE membership is not required to attend. Please share this opportunity with your colleagues.*</em></p><p><em><hr></em></p><p><strong>Speakers:</strong>&nbsp;</p><p>Corrinne Sande,&nbsp;<em>NCyTE Principal Investigator and Director</em></p><p>Stephen Troupe,&nbsp;<em>CAE Candidates National Center (CCNC) Associate Director<br></em></p><p><hr></p><p><em><strong>Who should attend:</strong></em></p><ul>    <li><em>College and university administrators who are seeking CAE designation.</em></li>    <li><em>College and university faculty interested in learning about opportunities in the CAE community (i.e. workshops, professional development, advising, mentoring, peer reviewing, etc.)&nbsp;<br>    </em></li></ul><p style="text-align: center;"><strong><span style="color: rgb(255, 0, 0);"><a href="	https://ncytecenter.wildapricot.org/event-4645973 " target="_blank">&nbsp;REGISTER HERE</a></span></strong></p><p>&nbsp;<em>NCyTE is funded by the National Science Foundation grant #2054724.</em></p>
LOCATION:
CLASS:PUBLIC
END:VEVENT
END:VCALENDAR
