BEGIN:VCALENDAR
VERSION:2.0
PRODID:NCyTE Center Calendar Creator
METHOD:PUBLISH
BEGIN:VEVENT
DTSTAMP:20250717T134010
DTSTART:20251016T080000
DTEND:20251017T160000
SUMMARY:CMMC version 2A Workshop
DESCRIPTION:<p style="text-align: center;"></p><p align="center"><strong>CMMC version 2A Workshop</strong></p><p align="center"><strong>October 16 -17, 2025</strong></p><p align="center"><strong>8:00 am- 4:00 pm | VIRTUAL</strong></p><h2 style="text-align: center;">&nbsp;<a href="https://ncytecenter.wildapricot.org/event-6239674 " target="_blank">REGISTER TO ATTEND</a></h2><p>This is the&nbsp;<strong>second course</strong>&nbsp;in a two-part CMMC readiness series. Building on foundational knowledge, this course prepares learners to implement the required security controls from the NIST SP 800-171 framework and configure audit-readiness activities for CMMC certification. It also explores the use of modern tools and AI capabilities to streamline compliance and training processes.</p><p><strong>Overall Course Learning Objectives</strong></p><p>By the end of this course, participants will be able to:</p><ol>    <li>Explain the relationship between CMMC, NIST SP 800-171, FCI, and CUI.</li>    <li>Assess CMMC applicability and readiness within an organization.</li>    <li>Implement and manage NIST SP 800-171 controls using real-world tools.</li>    <li>Track compliance tasks and progress using CMMC dashboards.</li>    <li>Prepare for a third-party audit, including artifact collection and POA&amp;M documentation.</li>    <li>Use AI tools to build chatbots, training agents, and audit assistants to accelerate compliance readiness.</li></ol><p><strong><br></strong></p><p><strong>Day 1: Understanding the CMMC Compliance Framework (4 hours)</strong></p><p>Learning Objectives:</p><p>·&nbsp;&nbsp;&nbsp;&nbsp;&nbsp;&nbsp;&nbsp;&nbsp;&nbsp;Define CMMC 2.0 levels and certification requirements.</p><p>·&nbsp;&nbsp;&nbsp;&nbsp;&nbsp;&nbsp;&nbsp;&nbsp;&nbsp;Distinguish between FCI and CUI.</p><p>·&nbsp;&nbsp;&nbsp;&nbsp;&nbsp;&nbsp;&nbsp;&nbsp;&nbsp;Map NIST SP 800-171 controls to CMMC Level 2 requirements.</p><p><strong>Day 2: Tools and Techniques for Implementation (4 hours)</strong></p><p>Learning Objectives:</p><p>·&nbsp;&nbsp;&nbsp;&nbsp;&nbsp;&nbsp;&nbsp;&nbsp;&nbsp;Use tools to assign, track, and validate control implementation.</p><p>·&nbsp;&nbsp;&nbsp;&nbsp;&nbsp;&nbsp;&nbsp;&nbsp;&nbsp;Navigate a CMMC dashboard.</p><p>·&nbsp;&nbsp;&nbsp;&nbsp;&nbsp;&nbsp;&nbsp;&nbsp;&nbsp;Evaluate POA&amp;Ms and audit readiness metrics.</p><p><strong>Course Deliverables</strong></p><p>·<strong>&nbsp;&nbsp;&nbsp;&nbsp;&nbsp;&nbsp;</strong>&nbsp;&nbsp;&nbsp;Course Workbook&nbsp;(fillable templates: SSP, POA&amp;M, task list, checklist)</p><p>·&nbsp;&nbsp;&nbsp;&nbsp;&nbsp;&nbsp;&nbsp;&nbsp;&nbsp;Access to Sandbox Compliance Dashboard</p><p>·&nbsp;&nbsp;&nbsp;&nbsp;&nbsp;&nbsp;&nbsp;&nbsp;&nbsp;Template for AI-powered CMMC Chatbot</p><p>·&nbsp;&nbsp;&nbsp;&nbsp;&nbsp;&nbsp;&nbsp;&nbsp;&nbsp;CMMC Readiness Checklist PDF</p><p>·&nbsp;&nbsp;&nbsp;&nbsp;&nbsp;&nbsp;&nbsp;&nbsp;&nbsp;Completion Certificate&nbsp;(with optional CPE hours)</p><p>&nbsp;</p>
X-ALT-DESC;FMTTYPE=text/html:<p style="text-align: center;"></p><p align="center"><strong>CMMC version 2A Workshop</strong></p><p align="center"><strong>October 16 -17, 2025</strong></p><p align="center"><strong>8:00 am- 4:00 pm | VIRTUAL</strong></p><h2 style="text-align: center;">&nbsp;<a href="https://ncytecenter.wildapricot.org/event-6239674 " target="_blank">REGISTER TO ATTEND</a></h2><p>This is the&nbsp;<strong>second course</strong>&nbsp;in a two-part CMMC readiness series. Building on foundational knowledge, this course prepares learners to implement the required security controls from the NIST SP 800-171 framework and configure audit-readiness activities for CMMC certification. It also explores the use of modern tools and AI capabilities to streamline compliance and training processes.</p><p><strong>Overall Course Learning Objectives</strong></p><p>By the end of this course, participants will be able to:</p><ol>    <li>Explain the relationship between CMMC, NIST SP 800-171, FCI, and CUI.</li>    <li>Assess CMMC applicability and readiness within an organization.</li>    <li>Implement and manage NIST SP 800-171 controls using real-world tools.</li>    <li>Track compliance tasks and progress using CMMC dashboards.</li>    <li>Prepare for a third-party audit, including artifact collection and POA&amp;M documentation.</li>    <li>Use AI tools to build chatbots, training agents, and audit assistants to accelerate compliance readiness.</li></ol><p><strong><br></strong></p><p><strong>Day 1: Understanding the CMMC Compliance Framework (4 hours)</strong></p><p>Learning Objectives:</p><p>·&nbsp;&nbsp;&nbsp;&nbsp;&nbsp;&nbsp;&nbsp;&nbsp;&nbsp;Define CMMC 2.0 levels and certification requirements.</p><p>·&nbsp;&nbsp;&nbsp;&nbsp;&nbsp;&nbsp;&nbsp;&nbsp;&nbsp;Distinguish between FCI and CUI.</p><p>·&nbsp;&nbsp;&nbsp;&nbsp;&nbsp;&nbsp;&nbsp;&nbsp;&nbsp;Map NIST SP 800-171 controls to CMMC Level 2 requirements.</p><p><strong>Day 2: Tools and Techniques for Implementation (4 hours)</strong></p><p>Learning Objectives:</p><p>·&nbsp;&nbsp;&nbsp;&nbsp;&nbsp;&nbsp;&nbsp;&nbsp;&nbsp;Use tools to assign, track, and validate control implementation.</p><p>·&nbsp;&nbsp;&nbsp;&nbsp;&nbsp;&nbsp;&nbsp;&nbsp;&nbsp;Navigate a CMMC dashboard.</p><p>·&nbsp;&nbsp;&nbsp;&nbsp;&nbsp;&nbsp;&nbsp;&nbsp;&nbsp;Evaluate POA&amp;Ms and audit readiness metrics.</p><p><strong>Course Deliverables</strong></p><p>·<strong>&nbsp;&nbsp;&nbsp;&nbsp;&nbsp;&nbsp;</strong>&nbsp;&nbsp;&nbsp;Course Workbook&nbsp;(fillable templates: SSP, POA&amp;M, task list, checklist)</p><p>·&nbsp;&nbsp;&nbsp;&nbsp;&nbsp;&nbsp;&nbsp;&nbsp;&nbsp;Access to Sandbox Compliance Dashboard</p><p>·&nbsp;&nbsp;&nbsp;&nbsp;&nbsp;&nbsp;&nbsp;&nbsp;&nbsp;Template for AI-powered CMMC Chatbot</p><p>·&nbsp;&nbsp;&nbsp;&nbsp;&nbsp;&nbsp;&nbsp;&nbsp;&nbsp;CMMC Readiness Checklist PDF</p><p>·&nbsp;&nbsp;&nbsp;&nbsp;&nbsp;&nbsp;&nbsp;&nbsp;&nbsp;Completion Certificate&nbsp;(with optional CPE hours)</p><p>&nbsp;</p>
LOCATION:Virtual\, 
CLASS:PUBLIC
END:VEVENT
END:VCALENDAR
