BEGIN:VCALENDAR
VERSION:2.0
PRODID:NCyTE Center Calendar Creator
METHOD:PUBLISH
BEGIN:VEVENT
DTSTAMP:20250715T134938
DTSTART:20250804T080000
DTEND:20250807T140000
SUMMARY:Azure AI Infrastructure Workshop
DESCRIPTION:<p style="text-align: center;"></p><p align="center"><strong>Azure AI Infrastructure Workshop</strong></p><p align="center"><strong>Date:</strong><br>August 4-7, 2025</p><p align="center"><strong>Time:</strong><br>8AM-2PM Pacific</p><p align="center"><strong>Location:&nbsp;</strong><br>Virtual</p><h2 style="text-align: center;">&nbsp;<a href="https://ncytecenter.wildapricot.org/event-6254922" target="_blank">REGISTER TO ATTEND</a></h2><p>Designed specifically for&nbsp;<strong>community college faculty,</strong>&nbsp;this hands-on workshop explores the robust capabilities of Microsoft Azure in the field of artificial intelligence. Participants will gain practical experience with Azure's powerful AI tools and services while preparing for the Microsoft Certified: Azure AI Fundamentals exam.</p><p>The workshop covers essential AI and machine learning concepts, guiding attendees through the process of building, training, and deploying models using Azure. Topics include computer vision, natural language processing (NLP), and generative AI, with a focus on real-world applications.</p><p>In addition to technical skills, the workshop emphasizes strategies for integrating AI technologies into academic programs, equipping educators to bring cutting-edge tools into the classroom.</p><p><strong>Key Features:</strong></p><ul>    <li><strong>AI Fundamentals Preparation</strong>&nbsp;- Tailored content aligned with the Azure AI Fundamentals certification.</li>    <li><strong>Machine Learning Essentials</strong>&nbsp;- Develop, train, and deploy ML models in Azure.</li>    <li><strong>Specialized AI Domains</strong>&nbsp;- Deep dives into computer vision, NLP, and generative AI.</li>    <li><strong>Hands-On Experience</strong>&nbsp;- Interactive labs and practical exercises.</li>    <li></li>    <li><strong>Educational Integration</strong>&nbsp;- Guidance for incorporating AI into curriculum and instruction.</li></ul><p><strong>&nbsp;<hr></strong></p><p><strong>Facilitators:</strong></p><ul>    <li>John Sands - Moraine Valley Community College</li>    <li>Mike Qaissaunee - Brookdale Community College</li>    <li>Jiri Jirik&nbsp;- Moraine Valley Community College</li>    <li>Kristine Christensen - Moraine Valley Community College</li></ul><p>&nbsp;</p>
X-ALT-DESC;FMTTYPE=text/html:<p style="text-align: center;"></p><p align="center"><strong>Azure AI Infrastructure Workshop</strong></p><p align="center"><strong>Date:</strong><br>August 4-7, 2025</p><p align="center"><strong>Time:</strong><br>8AM-2PM Pacific</p><p align="center"><strong>Location:&nbsp;</strong><br>Virtual</p><h2 style="text-align: center;">&nbsp;<a href="https://ncytecenter.wildapricot.org/event-6254922" target="_blank">REGISTER TO ATTEND</a></h2><p>Designed specifically for&nbsp;<strong>community college faculty,</strong>&nbsp;this hands-on workshop explores the robust capabilities of Microsoft Azure in the field of artificial intelligence. Participants will gain practical experience with Azure's powerful AI tools and services while preparing for the Microsoft Certified: Azure AI Fundamentals exam.</p><p>The workshop covers essential AI and machine learning concepts, guiding attendees through the process of building, training, and deploying models using Azure. Topics include computer vision, natural language processing (NLP), and generative AI, with a focus on real-world applications.</p><p>In addition to technical skills, the workshop emphasizes strategies for integrating AI technologies into academic programs, equipping educators to bring cutting-edge tools into the classroom.</p><p><strong>Key Features:</strong></p><ul>    <li><strong>AI Fundamentals Preparation</strong>&nbsp;- Tailored content aligned with the Azure AI Fundamentals certification.</li>    <li><strong>Machine Learning Essentials</strong>&nbsp;- Develop, train, and deploy ML models in Azure.</li>    <li><strong>Specialized AI Domains</strong>&nbsp;- Deep dives into computer vision, NLP, and generative AI.</li>    <li><strong>Hands-On Experience</strong>&nbsp;- Interactive labs and practical exercises.</li>    <li></li>    <li><strong>Educational Integration</strong>&nbsp;- Guidance for incorporating AI into curriculum and instruction.</li></ul><p><strong>&nbsp;<hr></strong></p><p><strong>Facilitators:</strong></p><ul>    <li>John Sands - Moraine Valley Community College</li>    <li>Mike Qaissaunee - Brookdale Community College</li>    <li>Jiri Jirik&nbsp;- Moraine Valley Community College</li>    <li>Kristine Christensen - Moraine Valley Community College</li></ul><p>&nbsp;</p>
LOCATION:Virtual\, 
CLASS:PUBLIC
END:VEVENT
END:VCALENDAR
