BEGIN:VCALENDAR
VERSION:2.0
PRODID:NCyTE Center Calendar Creator
METHOD:PUBLISH
BEGIN:VEVENT
DTSTAMP:20250527T125059
DTSTART:20250701T060000
DTEND:20250702T130000
SUMMARY:Implications of Artificial Intelligence for Educators
DESCRIPTION:<p style="text-align: center;"></p><p style="text-align: center;">July 1-2, 2025 • 9:00am - 4:00pm ET</p><p  style="text-align: center;">Ivy Tech Community College - Columbus<br>4475 Central Ave, Columbus, IN 47203</p><p style="text-align: center;"><a href="tinyurl.com/IvyTechAI" target="_blank">REGISTER</a></p><p style="text-align: left;">This workshop equips faculty, staff, counselors, and advisors with the knowledge and&nbsp;tools to integrate AI into teaching and curriculum development. Participants will explore&nbsp;lesson planning, interactive content, dynamic assessments, and ethical AI use. Through&nbsp;hands-on activities and real-world examples, they’ll learn to enhance student&nbsp;engagement, streamline tasks, and prepare students for an AI-driven future.&nbsp;The session also prepares attendees for the Microsoft Azure AI Fundamentals&nbsp;Certification exam (exam cost not included).</p><p style="text-align: left;">Workshop Highlights:</p><ul>    <li style="text-align: left;">AI in Action: See how AI improves decision-making, problem-solving, and data analysis.</li>    <li style="text-align: left;">Interactive Applications: Try hands-on AI activities for classrooms and admin tasks.</li>    <li style="text-align: left;">Ethics &amp; Challenges: Tackle misinformation, Deep Fakes, and privacy concerns.</li>    <li style="text-align: left;">AI Tools: Design adaptive assessments, course bots, and virtual assistants.&nbsp;</li>    <li style="text-align: left;">Curriculum Integration: Embed AI into lesson plans for better learning.&nbsp;</li>    <li style="text-align: left;">Future-Ready Students: Build critical thinking and AI skills for success.</li></ul><p style="text-align: left;">&nbsp;</p>
X-ALT-DESC;FMTTYPE=text/html:<p style="text-align: center;"></p><p style="text-align: center;">July 1-2, 2025 • 9:00am - 4:00pm ET</p><p  style="text-align: center;">Ivy Tech Community College - Columbus<br>4475 Central Ave, Columbus, IN 47203</p><p style="text-align: center;"><a href="tinyurl.com/IvyTechAI" target="_blank">REGISTER</a></p><p style="text-align: left;">This workshop equips faculty, staff, counselors, and advisors with the knowledge and&nbsp;tools to integrate AI into teaching and curriculum development. Participants will explore&nbsp;lesson planning, interactive content, dynamic assessments, and ethical AI use. Through&nbsp;hands-on activities and real-world examples, they’ll learn to enhance student&nbsp;engagement, streamline tasks, and prepare students for an AI-driven future.&nbsp;The session also prepares attendees for the Microsoft Azure AI Fundamentals&nbsp;Certification exam (exam cost not included).</p><p style="text-align: left;">Workshop Highlights:</p><ul>    <li style="text-align: left;">AI in Action: See how AI improves decision-making, problem-solving, and data analysis.</li>    <li style="text-align: left;">Interactive Applications: Try hands-on AI activities for classrooms and admin tasks.</li>    <li style="text-align: left;">Ethics &amp; Challenges: Tackle misinformation, Deep Fakes, and privacy concerns.</li>    <li style="text-align: left;">AI Tools: Design adaptive assessments, course bots, and virtual assistants.&nbsp;</li>    <li style="text-align: left;">Curriculum Integration: Embed AI into lesson plans for better learning.&nbsp;</li>    <li style="text-align: left;">Future-Ready Students: Build critical thinking and AI skills for success.</li></ul><p style="text-align: left;">&nbsp;</p>
LOCATION:Ivy Tech Community College\, 4475 Central Ave Columbus\, Indiana 47206
CLASS:PUBLIC
END:VEVENT
END:VCALENDAR
