BEGIN:VCALENDAR
VERSION:2.0
PRODID:NCyTE Center Calendar Creator
METHOD:PUBLISH
BEGIN:VEVENT
DTSTAMP:20250710T124024
DTSTART:20250717T080000
DTEND:20250718T160000
SUMMARY:Implications of Artificial Intelligence for Educators
DESCRIPTION:<p align="center"><strong>&nbsp;</strong></p><h2 style="text-align: center;">Implications of Artificial Intelligence for Educators&nbsp;</h2><p align="center"><strong>Date:</strong></p><p align="center">July 17-18, 2025</p><p align="center"><strong>Time:</strong><br>8AM-4PM Pacific</p><p align="center"><strong>Location:&nbsp;<br></strong>Rider University<br>Sweigart Hall Room 117 (<a aria-label="Link map" id="menur1rv" href="https://ncytecenter.wildapricot.org/resources/Rider%20Campus%20Map-Visitor%20Parking.png" rel="noreferrer noopener" target="_blank" ___1q1shib="" f2hkw1w="" f3rmtva="" f1ewtqcl="" fyind8e="" f1k6fduh="" f1w7gpdv="" fk6fouc="" fjoy568="" figsok6="" f1s184ao="" f1mk8lai="" fnbmjn9="" f1o700av="" f13mvf36="" f1cmlufx="" f9n3di6="" f1ids18y="" f1tx3yz7="" f1deo86v="" f1eh06m1="" f1iescvh="" fhgqx19="" f1olyrje="" f1p93eir="" f1nev41a="" f1h8hb77="" f1lqvz6u="" f10aw75t="" fsle3fq="" f17ae5zn"="" title="https://ncytecenter.wildapricot.org/resources/rider%20campus%20map-visitor%20parking.png">map</a>)<br>2083 Lawrenceville Rd<br>Lawrenceville, NJ</p><p align="center"><strong><span style="color: rgb(255, 0, 0);">Please bring your own laptop! You will need it for the hands-on activities.</span></strong></p><p align="center">&nbsp;</p><p>This workshop empowers university, community college, and high school faculty, staff, counselors, and academic advisors with the knowledge and tools to effectively integrate AI into their teaching practices and curriculum development. Participants will explore practical applications of AI, including lesson planning, designing engaging and interactive content, creating dynamic assessments, and customizing individualized student learning experiences. Additionally, the workshop will highlight how to enable students to use AI in ethical and productive ways across various disciplines.</p><p>Through hands-on activities, collaborative projects, and real-world examples, faculty will gain a deeper understanding of AI’s transformative role in education. They will also explore new forms of student engagement, ensuring responsible AI use in both teaching and learning environments. This workshop prepares educators to harness AI to enhance classroom instruction, streamline administrative tasks, and equip students with the skills needed to navigate an AI-driven future.</p><h2 style="text-align: center;"><a href="https://ncytecenter.wildapricot.org/event-6182701" target="_blank">REGISTER</a></h2>
X-ALT-DESC;FMTTYPE=text/html:<p align="center"><strong>&nbsp;</strong></p><h2 style="text-align: center;">Implications of Artificial Intelligence for Educators&nbsp;</h2><p align="center"><strong>Date:</strong></p><p align="center">July 17-18, 2025</p><p align="center"><strong>Time:</strong><br>8AM-4PM Pacific</p><p align="center"><strong>Location:&nbsp;<br></strong>Rider University<br>Sweigart Hall Room 117 (<a aria-label="Link map" id="menur1rv" href="https://ncytecenter.wildapricot.org/resources/Rider%20Campus%20Map-Visitor%20Parking.png" rel="noreferrer noopener" target="_blank" ___1q1shib="" f2hkw1w="" f3rmtva="" f1ewtqcl="" fyind8e="" f1k6fduh="" f1w7gpdv="" fk6fouc="" fjoy568="" figsok6="" f1s184ao="" f1mk8lai="" fnbmjn9="" f1o700av="" f13mvf36="" f1cmlufx="" f9n3di6="" f1ids18y="" f1tx3yz7="" f1deo86v="" f1eh06m1="" f1iescvh="" fhgqx19="" f1olyrje="" f1p93eir="" f1nev41a="" f1h8hb77="" f1lqvz6u="" f10aw75t="" fsle3fq="" f17ae5zn"="" title="https://ncytecenter.wildapricot.org/resources/rider%20campus%20map-visitor%20parking.png">map</a>)<br>2083 Lawrenceville Rd<br>Lawrenceville, NJ</p><p align="center"><strong><span style="color: rgb(255, 0, 0);">Please bring your own laptop! You will need it for the hands-on activities.</span></strong></p><p align="center">&nbsp;</p><p>This workshop empowers university, community college, and high school faculty, staff, counselors, and academic advisors with the knowledge and tools to effectively integrate AI into their teaching practices and curriculum development. Participants will explore practical applications of AI, including lesson planning, designing engaging and interactive content, creating dynamic assessments, and customizing individualized student learning experiences. Additionally, the workshop will highlight how to enable students to use AI in ethical and productive ways across various disciplines.</p><p>Through hands-on activities, collaborative projects, and real-world examples, faculty will gain a deeper understanding of AI’s transformative role in education. They will also explore new forms of student engagement, ensuring responsible AI use in both teaching and learning environments. This workshop prepares educators to harness AI to enhance classroom instruction, streamline administrative tasks, and equip students with the skills needed to navigate an AI-driven future.</p><h2 style="text-align: center;"><a href="https://ncytecenter.wildapricot.org/event-6182701" target="_blank">REGISTER</a></h2>
LOCATION:Rider University\, 2083 Lawrenceville Rd Lawrenceville\, New Jersey 
CLASS:PUBLIC
END:VEVENT
END:VCALENDAR
