BEGIN:VCALENDAR
VERSION:2.0
PRODID:NCyTE Center Calendar Creator
METHOD:PUBLISH
BEGIN:VEVENT
DTSTAMP:20250513T110153
DTSTART:20250612T080000
DTEND:20250613T160000
SUMMARY:Implications of Artificial Intelligence for Educators
DESCRIPTION:<p align="center"><strong>&nbsp;</strong></p><h2 style="text-align: center;">Implications of Artificial Intelligence for Educators&nbsp;</h2><p align="center"><strong>Date:</strong><br>June 12-13, 2025</p><p align="center"><strong>Time:</strong><br>8AM-4PM Eastern</p><p align="center"><strong>Location:&nbsp;<br></strong><a href="https://www.hccfl.edu/about-us/locations-and-directions" target="_blank"></a></p><p align="center">Prince George's Community College</p><p align="center">301 Largo Road, Largo, MD 20774</p><p align="center">&nbsp;</p><p>This workshop empowers university, community college, and high school faculty, staff, counselors, and academic advisors with the knowledge and tools to effectively integrate AI into their teaching practices and curriculum development. Participants will explore practical applications of AI, including lesson planning, designing engaging and interactive content, creating dynamic assessments, and customizing individualized student learning experiences. Additionally, the workshop will highlight how to enable students to use AI in ethical and productive ways across various disciplines.</p><p>Through hands-on activities, collaborative projects, and real-world examples, faculty will gain a deeper understanding of AI’s transformative role in education. They will also explore new forms of student engagement, ensuring responsible AI use in both teaching and learning environments. This workshop prepares educators to harness AI to enhance classroom instruction, streamline administrative tasks, and equip students with the skills needed to navigate an AI-driven future.</p><h2 style="text-align: center;"><a href="	https://ncytecenter.wildapricot.org/event-6124182 " target="_blank">REGISTER</a></h2>
X-ALT-DESC;FMTTYPE=text/html:<p align="center"><strong>&nbsp;</strong></p><h2 style="text-align: center;">Implications of Artificial Intelligence for Educators&nbsp;</h2><p align="center"><strong>Date:</strong><br>June 12-13, 2025</p><p align="center"><strong>Time:</strong><br>8AM-4PM Eastern</p><p align="center"><strong>Location:&nbsp;<br></strong><a href="https://www.hccfl.edu/about-us/locations-and-directions" target="_blank"></a></p><p align="center">Prince George's Community College</p><p align="center">301 Largo Road, Largo, MD 20774</p><p align="center">&nbsp;</p><p>This workshop empowers university, community college, and high school faculty, staff, counselors, and academic advisors with the knowledge and tools to effectively integrate AI into their teaching practices and curriculum development. Participants will explore practical applications of AI, including lesson planning, designing engaging and interactive content, creating dynamic assessments, and customizing individualized student learning experiences. Additionally, the workshop will highlight how to enable students to use AI in ethical and productive ways across various disciplines.</p><p>Through hands-on activities, collaborative projects, and real-world examples, faculty will gain a deeper understanding of AI’s transformative role in education. They will also explore new forms of student engagement, ensuring responsible AI use in both teaching and learning environments. This workshop prepares educators to harness AI to enhance classroom instruction, streamline administrative tasks, and equip students with the skills needed to navigate an AI-driven future.</p><h2 style="text-align: center;"><a href="	https://ncytecenter.wildapricot.org/event-6124182 " target="_blank">REGISTER</a></h2>
LOCATION:Prince George's Community College\, 301 Largo Road Largo\, Maryland 20774
CLASS:PUBLIC
END:VEVENT
END:VCALENDAR
