BEGIN:VCALENDAR
VERSION:2.0
PRODID:NCyTE Center Calendar Creator
METHOD:PUBLISH
BEGIN:VEVENT
DTSTAMP:20221025T113008
DTSTART:20221104T130000
DTEND:20221104T160000
SUMMARY:2022 ATE Virtual Conference  Post-Conference Virtual Sessions
DESCRIPTION:<p align="center"><strong>2022 ATE Virtual Conference</strong></p><p align="center"><strong>Post-Conference Virtual Sessions</strong></p><p align="center">November 4, 1:00 – 4:00 p.m. EDT</p><p>The&nbsp;<strong><em>2022 ATE Conference: Reconnecting &amp; Advancing the Skilled Technical Workforce</em></strong>&nbsp;is&nbsp;hosted by the American Association of Community Colleges (AACC) in partnership with the National Science Foundation (NSF) and&nbsp;will be held as an in-person event with a virtual track participation option.</p><p>The conference will kick-off virtually with ATE Connects on Thursday, October 20 and Friday, October 21 from 4:00 – 5:30 p.m. EDT and be followed by an in-person event taking place at the Omni Shoreham Hotel in Washington, D.C. on October 26-28, 2022.&nbsp; A post-conference virtual track featuring a few key sessions will be held on Friday, November 4 from 1:00 – 4:00 p.m. EDT.&nbsp;</p><p>For more information visit the&nbsp;<a href="https://www.atepiconference.com/" target="_blank">ATE PI Conference</a>&nbsp;website.</p>
X-ALT-DESC;FMTTYPE=text/html:<p align="center"><strong>2022 ATE Virtual Conference</strong></p><p align="center"><strong>Post-Conference Virtual Sessions</strong></p><p align="center">November 4, 1:00 – 4:00 p.m. EDT</p><p>The&nbsp;<strong><em>2022 ATE Conference: Reconnecting &amp; Advancing the Skilled Technical Workforce</em></strong>&nbsp;is&nbsp;hosted by the American Association of Community Colleges (AACC) in partnership with the National Science Foundation (NSF) and&nbsp;will be held as an in-person event with a virtual track participation option.</p><p>The conference will kick-off virtually with ATE Connects on Thursday, October 20 and Friday, October 21 from 4:00 – 5:30 p.m. EDT and be followed by an in-person event taking place at the Omni Shoreham Hotel in Washington, D.C. on October 26-28, 2022.&nbsp; A post-conference virtual track featuring a few key sessions will be held on Friday, November 4 from 1:00 – 4:00 p.m. EDT.&nbsp;</p><p>For more information visit the&nbsp;<a href="https://www.atepiconference.com/" target="_blank">ATE PI Conference</a>&nbsp;website.</p>
LOCATION:
CLASS:PUBLIC
END:VEVENT
END:VCALENDAR
