BEGIN:VCALENDAR
VERSION:2.0
PRODID:NCyTE Center Calendar Creator
METHOD:PUBLISH
BEGIN:VEVENT
DTSTAMP:20250326T130654
DTSTART:20250411T070000
DTEND:20250411T080000
SUMMARY:A Case Study in Machine Learning (ML) Using Transfer Learning Models
DESCRIPTION:<p style="text-align: center;"></p><p style="text-align: center;"><b>Friday, April 11<sup>th</sup> 10AM – 11AM EDT</b>.&nbsp;&nbsp;<b><a href="https://floridamakes.zoom.us/meeting/register/TuMHwujDStu91fabPgqJag#/registration" target="_blank">Register HERE.</a></b></p><p><b><i>A Case Study in Machine Learning (ML) Using Transfer Learning Models </i></b>is a group, activity-based learning workshop.&nbsp; Explore real-world applications of machine learning in manufacturing. Participants will work together, experimenting with diverse data sets to uncover insights and solve challenges. This collaborative session is designed to equip you with both the theory and practice needed to apply ML techniques effectively in the manufacturing sector.</p>
X-ALT-DESC;FMTTYPE=text/html:<p style="text-align: center;"></p><p style="text-align: center;"><b>Friday, April 11<sup>th</sup> 10AM – 11AM EDT</b>.&nbsp;&nbsp;<b><a href="https://floridamakes.zoom.us/meeting/register/TuMHwujDStu91fabPgqJag#/registration" target="_blank">Register HERE.</a></b></p><p><b><i>A Case Study in Machine Learning (ML) Using Transfer Learning Models </i></b>is a group, activity-based learning workshop.&nbsp; Explore real-world applications of machine learning in manufacturing. Participants will work together, experimenting with diverse data sets to uncover insights and solve challenges. This collaborative session is designed to equip you with both the theory and practice needed to apply ML techniques effectively in the manufacturing sector.</p>
LOCATION:
CLASS:PUBLIC
END:VEVENT
END:VCALENDAR
