BEGIN:VCALENDAR
VERSION:2.0
PRODID:NCyTE Center Calendar Creator
METHOD:PUBLISH
BEGIN:VEVENT
DTSTAMP:20250326T130406
DTSTART:20250409T070000
DTEND:20250409T080000
SUMMARY:Insights into the Workforce of the Future
DESCRIPTION:<p style="text-align: center;"></p><p style="text-align: center;"><b>Wednesday, April 9<sup>th</sup> 10AM – 11AM EDT</b>. <b><a href="https://floridamakes.zoom.us/meeting/register/sGwXV8hjQfyhxkZXYDIvaw#/registration" target="_blank">Register HERE.</a></b></p><p>Join us for <b><i>Insights into the Workforce of the Future. </i></b><i>Employees across generations are different in how they see work and engage with their employers and co-workers. Discover trends and tools to understand the differences so you can share with your students how to create an environment where all generations are heard, equipped and elevated.&nbsp; Workplace motivation factors discussed can apply to the classroom as well!</i></p>
X-ALT-DESC;FMTTYPE=text/html:<p style="text-align: center;"></p><p style="text-align: center;"><b>Wednesday, April 9<sup>th</sup> 10AM – 11AM EDT</b>. <b><a href="https://floridamakes.zoom.us/meeting/register/sGwXV8hjQfyhxkZXYDIvaw#/registration" target="_blank">Register HERE.</a></b></p><p>Join us for <b><i>Insights into the Workforce of the Future. </i></b><i>Employees across generations are different in how they see work and engage with their employers and co-workers. Discover trends and tools to understand the differences so you can share with your students how to create an environment where all generations are heard, equipped and elevated.&nbsp; Workplace motivation factors discussed can apply to the classroom as well!</i></p>
LOCATION:
CLASS:PUBLIC
END:VEVENT
END:VCALENDAR
