BEGIN:VCALENDAR
VERSION:2.0
PRODID:NCyTE Center Calendar Creator
METHOD:PUBLISH
BEGIN:VEVENT
DTSTAMP:20250326T130116
DTSTART:20250328T070000
DTEND:20250328T080000
SUMMARY:Using Python for Machine Learning in Manufacturing
DESCRIPTION:<p style="text-align: center;"></p><p style="text-align: center;"><b>Friday, March 28<sup>th</sup> 10AM – 11AM EDT</b>. </p><p style="text-align: center;"><b><a href="https://floridamakes.zoom.us/meeting/register/fdM1EVA6R3OZr0QF-31zLQ#/registration" target="_blank">Register HERE</a></b></p><p>This webinar <b><i>Using Python for Machine Learning in Manufacturing </i></b>is a comprehensive dive into Python essentials for machine learning—covering basic programming constructs and algorithms – as well as an introduction to machine learning for manufacturing, exploring how these techniques are revolutionizing industrial processes.</p>
X-ALT-DESC;FMTTYPE=text/html:<p style="text-align: center;"></p><p style="text-align: center;"><b>Friday, March 28<sup>th</sup> 10AM – 11AM EDT</b>. </p><p style="text-align: center;"><b><a href="https://floridamakes.zoom.us/meeting/register/fdM1EVA6R3OZr0QF-31zLQ#/registration" target="_blank">Register HERE</a></b></p><p>This webinar <b><i>Using Python for Machine Learning in Manufacturing </i></b>is a comprehensive dive into Python essentials for machine learning—covering basic programming constructs and algorithms – as well as an introduction to machine learning for manufacturing, exploring how these techniques are revolutionizing industrial processes.</p>
LOCATION:Virtual\, 
CLASS:PUBLIC
END:VEVENT
END:VCALENDAR
